BEGIN:VCALENDAR
VERSION:2.0
PRODID:-//H2OC Stormwater Program - ECPv6.15.20//NONSGML v1.0//EN
CALSCALE:GREGORIAN
METHOD:PUBLISH
X-ORIGINAL-URL:https://h2oc.org
X-WR-CALDESC:Events for H2OC Stormwater Program
REFRESH-INTERVAL;VALUE=DURATION:PT1H
X-Robots-Tag:noindex
X-PUBLISHED-TTL:PT1H
BEGIN:VTIMEZONE
TZID:America/Los_Angeles
BEGIN:DAYLIGHT
TZOFFSETFROM:-0800
TZOFFSETTO:-0700
TZNAME:PDT
DTSTART:20250309T100000
END:DAYLIGHT
BEGIN:STANDARD
TZOFFSETFROM:-0700
TZOFFSETTO:-0800
TZNAME:PST
DTSTART:20251102T090000
END:STANDARD
BEGIN:DAYLIGHT
TZOFFSETFROM:-0800
TZOFFSETTO:-0700
TZNAME:PDT
DTSTART:20260308T100000
END:DAYLIGHT
BEGIN:STANDARD
TZOFFSETFROM:-0700
TZOFFSETTO:-0800
TZNAME:PST
DTSTART:20261101T090000
END:STANDARD
BEGIN:DAYLIGHT
TZOFFSETFROM:-0800
TZOFFSETTO:-0700
TZNAME:PDT
DTSTART:20270314T100000
END:DAYLIGHT
BEGIN:STANDARD
TZOFFSETFROM:-0700
TZOFFSETTO:-0800
TZNAME:PST
DTSTART:20271107T090000
END:STANDARD
END:VTIMEZONE
BEGIN:VEVENT
DTSTART;TZID=America/Los_Angeles:20260125T090000
DTEND;TZID=America/Los_Angeles:20260222T103000
DTSTAMP:20260423T010819
CREATED:20251224T231903Z
LAST-MODIFIED:20251224T231916Z
UID:10955-1769331600-1771756200@h2oc.org
SUMMARY:Last Sunday of the Month Trash Cleanup
DESCRIPTION:Help keep the waters of the Bolsa Chica Ecological Reserve clean! On the last Sundays of the month\, help clean up trash\, plastics especially\, from the area around the south parking lot and footbridge.Tools\, gloves and buckets will be provided. Chech out the link for online registration.
URL:https://h2oc.org/event/last-sunday-of-the-month-trash-cleanup-2/
LOCATION:Bolsa Chica Ecological Reserve – South Parking Lot (18000 Pacific Coast Highway\, Huntington Beach\, CA 92648)
END:VEVENT
BEGIN:VEVENT
DTSTART;TZID=America/Los_Angeles:20260201T090000
DTEND;TZID=America/Los_Angeles:20260201T120000
DTSTAMP:20260423T010819
CREATED:20260202T175402Z
LAST-MODIFIED:20260202T175504Z
UID:11024-1769936400-1769947200@h2oc.org
SUMMARY:Bolsa Chica Stewards Habitat Restoration Volunteering
DESCRIPTION:The Bolsa Chica Stewards invite the public to join them on the first Sunday and third Saturday of each month for thier habitat restoration efforts. Help them care for the new plants\, remove non-native plants\, pick up trash\, and other maintenance tasks to prevent polltuion of local waterways. Pre-registration and event sign up is required.
URL:https://h2oc.org/event/bolsa-chica-stewards-habitat-restoration-volunteering/
LOCATION:Bolsa Chica Ecological Reserve- North Parking Lot (3842 Warner Ave\, Huntington Beach\, CA 92649)
END:VEVENT
BEGIN:VEVENT
DTSTART;TZID=America/Los_Angeles:20260202T083000
DTEND;TZID=America/Los_Angeles:20260202T093000
DTSTAMP:20260423T010819
CREATED:20260202T180035Z
LAST-MODIFIED:20260202T180035Z
UID:11028-1770021000-1770024600@h2oc.org
SUMMARY:Monday Beach Cleanups
DESCRIPTION:Do your part at the native plant nursery in Laguna Coast Wilderness Park. Native plants are nature’s filtration system to slow stormwater pollution. Volunteers may collect seeds\, sow seeds in flats\, bump plants up\, plant at restoration sites\, sterilize plant containers and help maintain the nursery. All tools and equipment will be provided. Participants should wear closed-toe shoes\, layered clothing and sun protection. Advance registration required.
URL:https://h2oc.org/event/monday-beach-cleanups/
LOCATION:Huntington City Beach (20th St.\, Huntington Beach\, CA 92648)
END:VEVENT
BEGIN:VEVENT
DTSTART;TZID=America/Los_Angeles:20260207T080000
DTEND;TZID=America/Los_Angeles:20260207T110000
DTSTAMP:20260423T010819
CREATED:20260202T181351Z
LAST-MODIFIED:20260202T181351Z
UID:11032-1770451200-1770462000@h2oc.org
SUMMARY:Keep it Wild - LCF Native Plant Nursery
DESCRIPTION:Do your part at the native plant nursery in Laguna Coast Wilderness Park. Native plants are nature’s filtration system to slow stormwater pollution. Volunteers may collect seeds\, sow seeds in flats\, bump plants up\, plant at restoration sites\, sterilize plant containers and help maintain the nursery. All tools and equipment will be provided. Participants should wear closed-toe shoes\, layered clothing and sun protection. Advance registration required.
URL:https://h2oc.org/event/keep-it-wild-lcf-native-plant-nursery-2/
LOCATION:18751 Laguna Canyon Road\, Laguna Beach\, CA 92651 (Program will begin at Laguna Canyon Foundation Headquarters\, 10 Phillips St.\, Laguna Beach\, CA 92651)
END:VEVENT
BEGIN:VEVENT
DTSTART;TZID=America/Los_Angeles:20260207T090000
DTEND;TZID=America/Los_Angeles:20260207T100000
DTSTAMP:20260423T010819
CREATED:20260202T182244Z
LAST-MODIFIED:20260202T182244Z
UID:11040-1770454800-1770458400@h2oc.org
SUMMARY:Composting Workshop
DESCRIPTION:This free workshop will teach you composting basics and best practices\, community composting\, and practical ways to reduce food waste at home. RSVP online or through the QR Code to save your spot!
URL:https://h2oc.org/event/composting-workshop/
LOCATION:Buena Park Community Garden (6791 Thelma Avenue\, Buena Park\, CA 90620)
END:VEVENT
BEGIN:VEVENT
DTSTART;TZID=America/Los_Angeles:20260207T090000
DTEND;TZID=America/Los_Angeles:20260207T110000
DTSTAMP:20260423T010819
CREATED:20260202T200945Z
LAST-MODIFIED:20260202T201145Z
UID:11073-1770454800-1770462000@h2oc.org
SUMMARY:Native Plant Restoration at Irby Park
DESCRIPTION:Join Surfrider at Irby Park to help restore the native landscape! Activities include removing invasive weeds\, planting native vegetation\, and working on other important projects. This is a free event and advanced registration is required. Sign up online for the exact address.
URL:https://h2oc.org/event/native-plant-restoration-at-irby-park-3/
LOCATION:Irby Park (6770 Ruth Dr. Huntington Beach\, CA 92647)
END:VEVENT
BEGIN:VEVENT
DTSTART;TZID=America/Los_Angeles:20260207T090000
DTEND;TZID=America/Los_Angeles:20260207T110000
DTSTAMP:20260423T010819
CREATED:20260202T201425Z
LAST-MODIFIED:20260202T201452Z
UID:11076-1770454800-1770462000@h2oc.org
SUMMARY:Calafia Beach San Clemente Cleanup
DESCRIPTION:Volunteer at Calafia Beach to protect our beautiful ocean. To ensure safety and comfort please bring closed toe shoes\, a reusable water bottle\, trash picker\, sun protection (sunscreen\, hat\, and sunglasses)\, and comfortable clothing. Advanced registration is required. Sign up online for the exact address.
URL:https://h2oc.org/event/calafia-beach-san-clemente-cleanup-5/
LOCATION:Calafia Beach (250 Avenida Calafia\, San Clemente\, CA 92672)
END:VEVENT
BEGIN:VEVENT
DTSTART;TZID=America/Los_Angeles:20260207T090000
DTEND;TZID=America/Los_Angeles:20260207T113000
DTSTAMP:20260423T010819
CREATED:20260202T182905Z
LAST-MODIFIED:20260202T182905Z
UID:11047-1770454800-1770463800@h2oc.org
SUMMARY:Impact Event
DESCRIPTION:Discovery Cube’s Impact Events inspire people of all ages to embrace science as a tool for creating a positive\, lasting impact on the world around them. Choose between two shifts and help with conservation work in the wetlands or harvesting and planting seeds in the nursery. Pick your time slot and reserve your spot today!
URL:https://h2oc.org/event/impact-event/
LOCATION:21900 Pacific Coast Hwy Huntington Beach\, CA 92646
END:VEVENT
BEGIN:VEVENT
DTSTART;TZID=America/Los_Angeles:20260207T090000
DTEND;TZID=America/Los_Angeles:20260207T120000
DTSTAMP:20260423T010819
CREATED:20260202T181717Z
LAST-MODIFIED:20260202T181717Z
UID:11036-1770454800-1770465600@h2oc.org
SUMMARY:Keep it Wild - Aliso and Wood Canyons
DESCRIPTION:Create a healthier habitat for the native plants and wildlife that call Aliso Creek home! Volunteers will assist with various stewardship activities including removing non-native plants\, cleaning up the creek or planting native plants. No experience is necessary and all tools will be provided. Please wear long pants\, closed-toe shoes and sun protection\, and bring water. Advance registration required.
URL:https://h2oc.org/event/keep-it-wild-aliso-and-wood-canyons-2/
LOCATION:28373 Alicia Parkway\, Laguna Niguel\, CA 92677
END:VEVENT
BEGIN:VEVENT
DTSTART;TZID=America/Los_Angeles:20260207T123000
DTEND;TZID=America/Los_Angeles:20260207T150000
DTSTAMP:20260423T010819
CREATED:20260202T183224Z
LAST-MODIFIED:20260202T183224Z
UID:11050-1770467400-1770476400@h2oc.org
SUMMARY:Impact Event
DESCRIPTION:Discovery Cube’s Impact Events inspire people of all ages to embrace science as a tool for creating a positive\, lasting impact on the world around them. Choose between two shifts and help with conservation work in the wetlands or harvesting and planting seeds in the nursery. Pick your time slot and reserve your spot today!
URL:https://h2oc.org/event/impact-event-2/
LOCATION:21900 Pacific Coast Hwy Huntington Beach\, CA 92646
END:VEVENT
BEGIN:VEVENT
DTSTART;TZID=America/Los_Angeles:20260208T083000
DTEND;TZID=America/Los_Angeles:20260208T110000
DTSTAMP:20260423T010819
CREATED:20260202T201807Z
LAST-MODIFIED:20260202T201807Z
UID:11079-1770539400-1770548400@h2oc.org
SUMMARY:Harbor Cleanup - Huntington Harbor
DESCRIPTION:Want to learn about watersheds\, how to collect data for making environmental action decisions\, and help cleanup your environment? Hop into a kayak or stand-up paddleboard with Surfrider at their next Huntington Harbor cleanup! There is a 30 person limit and advanced registration is required.
URL:https://h2oc.org/event/harbor-cleanup-huntington-harbor-5/
LOCATION:4281 Warner Avenue Huntington Beach\, CA 92649.
END:VEVENT
BEGIN:VEVENT
DTSTART;TZID=America/Los_Angeles:20260208T180000
DTEND;TZID=America/Los_Angeles:20260208T200000
DTSTAMP:20260423T010819
CREATED:20260202T202124Z
LAST-MODIFIED:20260202T202302Z
UID:11082-1770573600-1770580800@h2oc.org
SUMMARY:Wastewater 101- Citizens Academy -Protecting Our Environment: Fundamentals of Environmental Services
DESCRIPTION:This Academy will breakdown all parts of OC San so that you can walk away with a better understanding of what they do\, how\, and why. In this class you will explore how their team ensures environmental safety through compliance\, inspections\, and monitoring. Learn about their laboratory technology\, the Ocean Monitoring Program\, and their research vessel\, the Nerissa.
URL:https://h2oc.org/event/wastewater-101-citizens-academy-protecting-our-environment-fundamentals-of-environmental-services/
LOCATION:Virtual
END:VEVENT
BEGIN:VEVENT
DTSTART;TZID=America/Los_Angeles:20260209T083000
DTEND;TZID=America/Los_Angeles:20260209T093000
DTSTAMP:20260423T010819
CREATED:20260202T183622Z
LAST-MODIFIED:20260202T183622Z
UID:11052-1770625800-1770629400@h2oc.org
SUMMARY:Monday Beach Cleanups
DESCRIPTION:Protect our waterways and prevent stormwater polltuion by joining the Bolsa Chica Land Trust for their Monday Cleanups. It’s fun\, beautiful\, great exercise\, AND it helps the environment. Most of the supplies are provided\, but if you want\, please bring a reusable bucket or bag\, and gloves.
URL:https://h2oc.org/event/monday-beach-cleanups-2/
LOCATION:Huntington City Beach (20th St.\, Huntington Beach\, CA 92648)
END:VEVENT
BEGIN:VEVENT
DTSTART;TZID=America/Los_Angeles:20260210T180000
DTEND;TZID=America/Los_Angeles:20260210T190000
DTSTAMP:20260423T010819
CREATED:20260202T184020Z
LAST-MODIFIED:20260202T184020Z
UID:11054-1770746400-1770750000@h2oc.org
SUMMARY:Bugs? Ugh! Manage Weeds and Pests in Your Garden
DESCRIPTION:In this virtual workshop\, you will discover principles of integrated pest management (IPM)\, develop strategies to prevent pest problems (highlighting mosquitoes)\, manage weeds and regrowth without chemicals\, and review non-toxic solutions for pest control. The class is free\, but advance registration is required.
URL:https://h2oc.org/event/bugs-ugh-manage-weeds-and-pests-in-your-garden/
LOCATION:Virtual
END:VEVENT
BEGIN:VEVENT
DTSTART;TZID=America/Los_Angeles:20260214T090000
DTEND;TZID=America/Los_Angeles:20260214T110000
DTSTAMP:20260423T010819
CREATED:20260202T202601Z
LAST-MODIFIED:20260202T202601Z
UID:11087-1771059600-1771066800@h2oc.org
SUMMARY:Native Plant Restoration at River's End Park
DESCRIPTION:At this free event\, you will get the opportunity to remove invasive weeds while enjoying the beauty of River’s End Park! Gloves and limited tools will be supplied. Please bring your own if you have them! Sign up for the exact address.
URL:https://h2oc.org/event/native-plant-restoration-at-rivers-end-park/
LOCATION:River’s End Park Seal Beach\, CA ( 15 1st St\, Seal Beach\, CA 90740)
END:VEVENT
BEGIN:VEVENT
DTSTART;TZID=America/Los_Angeles:20260214T090000
DTEND;TZID=America/Los_Angeles:20260214T110000
DTSTAMP:20260423T010819
CREATED:20260202T202956Z
LAST-MODIFIED:20260202T204220Z
UID:11091-1771059600-1771066800@h2oc.org
SUMMARY:Huntington State Beach Tower 2 Cleanup
DESCRIPTION:Keep your community clean and prevent pollution. Join Coastkeeper to help protect Huntington Beach’s beautiful waterways! Make sure to bring closed-toed shoes\, comfortable and weather-appropriate clothing\, sun protection\, and your own cleanup equipment. This is a free event and advanced registration online is required.
URL:https://h2oc.org/event/huntington-state-beach-tower-2-cleanup-4/
LOCATION:Huntington Beach Tower 2 (22355 E Pacific Coast Hwy\, Huntington Beach\, CA 92646)
END:VEVENT
BEGIN:VEVENT
DTSTART;TZID=America/Los_Angeles:20260216T083000
DTEND;TZID=America/Los_Angeles:20260216T093000
DTSTAMP:20260423T010819
CREATED:20260202T184601Z
LAST-MODIFIED:20260202T184601Z
UID:11057-1771230600-1771234200@h2oc.org
SUMMARY:Monday Beach Cleanups
DESCRIPTION:Protect our waterways and prevent stormwater polltuion by joining the Bolsa Chica Land Trust for their Monday Cleanups. It’s fun\, beautiful\, great exercise\, AND it helps the environment. Most of the supplies are provided\, but if you want\, please bring a reusable bucket or bag\, and gloves.
URL:https://h2oc.org/event/monday-beach-cleanups-3/
LOCATION:Huntington City Beach (20th St.\, Huntington Beach\, CA 92648)
END:VEVENT
BEGIN:VEVENT
DTSTART;TZID=America/Los_Angeles:20260219T160000
DTEND;TZID=America/Los_Angeles:20260219T190000
DTSTAMP:20260423T010819
CREATED:20260202T185859Z
LAST-MODIFIED:20260202T185859Z
UID:11060-1771516800-1771527600@h2oc.org
SUMMARY:Teacher's Night Out: Following the Flow- Teaching About Our Watershed Systems
DESCRIPTION:Where does our drinking water come from? This question may be a tricky one for students to answer\, yet it is essential to understand. In this workshop we will be learning some water basics – developing a framework to understand how watersheds work\, reviewing how water is essential to not just ecosystems but all of humanity\, and figuring out how water becomes polluted and cleaned again. We will work on making a model of a watershed in order to demystify how water flows\, and wrap up by ‘gamifying’ the water cycle. \nA light dinner and wine will be served after the workshop concludes.
URL:https://h2oc.org/event/teachers-night-out-following-the-flow-teaching-about-our-watershed-systems/
LOCATION:Environmental Nature Center\, Newport Beach (1601 E. 16th Street\, Newport Beach\, California\, 92663)
END:VEVENT
BEGIN:VEVENT
DTSTART;TZID=America/Los_Angeles:20260219T180000
DTEND;TZID=America/Los_Angeles:20260219T193000
DTSTAMP:20260423T010819
CREATED:20260202T194449Z
LAST-MODIFIED:20260202T194449Z
UID:11064-1771524000-1771529400@h2oc.org
SUMMARY:Design a Resilient California Garden
DESCRIPTION:This workshop discusses alternative groundcover options for replacing ornamental lawn areas\, including keeping the existing lawn in place and creating a “Polyculture” green space. Attendees will learn: the importance of polycultures and diversity\, how to select a blend of groundcovers for greater resiliency and soil health\, managing limited irrigation\, and more! The class is free\, but advance registration is required.
URL:https://h2oc.org/event/design-a-resilient-california-garden/
LOCATION:Virtual
END:VEVENT
BEGIN:VEVENT
DTSTART;TZID=America/Los_Angeles:20260221T080000
DTEND;TZID=America/Los_Angeles:20260221T120000
DTSTAMP:20260423T010819
CREATED:20260202T215339Z
LAST-MODIFIED:20260202T215339Z
UID:11097-1771660800-1771675200@h2oc.org
SUMMARY:Beach Cleanup- The Wedge
DESCRIPTION:Learn more about Surfrider’s beach cleanup program at popular surf destination The Wedge at Newport Beach. Be ready to skim the shoreline and parking lot for waste and collect data for environmental action decisions. Advanced registration is required.
URL:https://h2oc.org/event/beach-cleanup-the-wedge-2/
LOCATION:2300 Channel Rd\, Newport Beach\, CA 92661
END:VEVENT
BEGIN:VEVENT
DTSTART;TZID=America/Los_Angeles:20260221T090000
DTEND;TZID=America/Los_Angeles:20260221T120000
DTSTAMP:20260423T010819
CREATED:20260202T195223Z
LAST-MODIFIED:20260202T195223Z
UID:11067-1771664400-1771675200@h2oc.org
SUMMARY:Bolsa Chica Stewards Habitat Restoration Volunteering
DESCRIPTION:The Bolsa Chica Stewards invite the public to join them on the first Sunday and third Saturday of each month for thier habitat restoration efforts. Help them care for the new plants\, remove non-native plants\, pick up trash\, and other maintenance tasks to prevent polltuion of local waterways. Pre-registration and event sign up is required.
URL:https://h2oc.org/event/bolsa-chica-stewards-habitat-restoration-volunteering-2/
LOCATION:Bolsa Chica Ecological Reserve- North Parking Lot (3842 Warner Ave\, Huntington Beach\, CA 92649)
END:VEVENT
BEGIN:VEVENT
DTSTART;TZID=America/Los_Angeles:20260221T090000
DTEND;TZID=America/Los_Angeles:20260221T120000
DTSTAMP:20260423T010819
CREATED:20260202T215006Z
LAST-MODIFIED:20260202T215006Z
UID:11094-1771664400-1771675200@h2oc.org
SUMMARY:Beach Clean-up at Seal Beach
DESCRIPTION:Join Save Our Beach for a beach cleanup in Seal Beach from 9:00 AM to 11:45 AM at 15 1st Street. This free monthly event helps keep our coast clean\, but please bring your ticket as proof of registration.
URL:https://h2oc.org/event/beach-clean-up-at-seal-beach-4/
LOCATION:15 1st St\, Seal Beach\, CA 90740
END:VEVENT
BEGIN:VEVENT
DTSTART;TZID=America/Los_Angeles:20260221T150000
DTEND;TZID=America/Los_Angeles:20260221T170000
DTSTAMP:20260423T010819
CREATED:20260218T220628Z
LAST-MODIFIED:20260218T220628Z
UID:11250-1771686000-1771693200@h2oc.org
SUMMARY:Keep it Wild - Laguna Coast
DESCRIPTION:Learn and work together towards habitat restoration stewardship in Laguna Coast Wilderness Park. Native plants are nature’s filtration system to slow stormwater pollution. As a volunteer\, you will collect seeds\, remove non-native plants\, plant native ones. Gloves and tools will be provided. Participants should bring water\, closed-toe shoes\, layered clothing and sun protection. Advance registration required.
URL:https://h2oc.org/event/keep-it-wild-laguna-coast/
LOCATION:Nix Nature Center\, Laguna Coast Wilderness Park (18751 Laguna Canyon Road\, Laguna Beach 92651)
END:VEVENT
BEGIN:VEVENT
DTSTART;TZID=America/Los_Angeles:20260222T080000
DTEND;TZID=America/Los_Angeles:20260222T100000
DTSTAMP:20260423T010819
CREATED:20260202T215634Z
LAST-MODIFIED:20260202T215822Z
UID:11100-1771747200-1771754400@h2oc.org
SUMMARY:Beach Cleanup + Surf - Newport Pier
DESCRIPTION:Protect our waterways while you support your local community! Join Surfrider at the Newport’s Pier to learn about their beach cleanup and rid trash from our shores. Sign up online for the exact address.
URL:https://h2oc.org/event/beach-cleanup-surf-newport-pier/
LOCATION:1 Newport Pier\, Newport Beach\, CA 92663
END:VEVENT
BEGIN:VEVENT
DTSTART;TZID=America/Los_Angeles:20260222T090000
DTEND;TZID=America/Los_Angeles:20260222T103000
DTSTAMP:20260423T010819
CREATED:20260202T220103Z
LAST-MODIFIED:20260202T220103Z
UID:11103-1771750800-1771756200@h2oc.org
SUMMARY:Last Sunday of the Month Trash Cleanup
DESCRIPTION:Help keep the waters of the Bolsa Chica Ecological Reserve healthy! On the last Sundays of the month\, help clean up trash from the area around the south parking lot and footbridge. Tools\, gloves and buckets will be provided. Click the link to register online.
URL:https://h2oc.org/event/last-sunday-of-the-month-trash-cleanup-3/
LOCATION:Bolsa Chica Ecological Reserve – South Parking Lot (18000 Pacific Coast Highway\, Huntington Beach\, CA 92648)
END:VEVENT
BEGIN:VEVENT
DTSTART;TZID=America/Los_Angeles:20260223T083000
DTEND;TZID=America/Los_Angeles:20260323T173000
DTSTAMP:20260423T010819
CREATED:20260202T200500Z
LAST-MODIFIED:20260202T200500Z
UID:11070-1771835400-1774287000@h2oc.org
SUMMARY:Spring Pruning Workshop (Love Your Garden)
DESCRIPTION:Get your garden ready for spring with expert tips on pruning and pest control. Share the love and bring succulent plant cuttings to share with fellow gardeners at the Succulent Cutting Exchange booth. FREE bags of compost and mulch will be available for attendees\, while supplies last. Register online today!
URL:https://h2oc.org/event/spring-pruning-workshop-love-your-garden/
LOCATION:Huntington City Beach (20th St.\, Huntington Beach\, CA 92648)
END:VEVENT
BEGIN:VEVENT
DTSTART;TZID=America/Los_Angeles:20260226T180000
DTEND;TZID=America/Los_Angeles:20260226T200000
DTSTAMP:20260423T010819
CREATED:20260202T220324Z
LAST-MODIFIED:20260202T220324Z
UID:11106-1772128800-1772136000@h2oc.org
SUMMARY:Wastewater 101- Citizens Academy -OC San: The Nuts and Bolts
DESCRIPTION:This Academy will breakdown all parts of OC San so that you can walk away with a better understanding of what they do\, how\, and why. In this class you will discover the daily process of treating wastewater from millions of people. Follow the flow from pipelines to treatment and see how recycled water is produced through the Groundwater Replenishment System (GWRS). Register online\, workshop dates are subject to change.
URL:https://h2oc.org/event/wastewater-101-citizens-academy-oc-san-the-nuts-and-bolts-3/
LOCATION:Virtual
END:VEVENT
END:VCALENDAR