BEGIN:VCALENDAR
VERSION:2.0
PRODID:-//H2OC Stormwater Program - ECPv6.15.20//NONSGML v1.0//EN
CALSCALE:GREGORIAN
METHOD:PUBLISH
X-ORIGINAL-URL:https://h2oc.org
X-WR-CALDESC:Events for H2OC Stormwater Program
REFRESH-INTERVAL;VALUE=DURATION:PT1H
X-Robots-Tag:noindex
X-PUBLISHED-TTL:PT1H
BEGIN:VTIMEZONE
TZID:America/Los_Angeles
BEGIN:DAYLIGHT
TZOFFSETFROM:-0800
TZOFFSETTO:-0700
TZNAME:PDT
DTSTART:20240310T100000
END:DAYLIGHT
BEGIN:STANDARD
TZOFFSETFROM:-0700
TZOFFSETTO:-0800
TZNAME:PST
DTSTART:20241103T090000
END:STANDARD
BEGIN:DAYLIGHT
TZOFFSETFROM:-0800
TZOFFSETTO:-0700
TZNAME:PDT
DTSTART:20250309T100000
END:DAYLIGHT
BEGIN:STANDARD
TZOFFSETFROM:-0700
TZOFFSETTO:-0800
TZNAME:PST
DTSTART:20251102T090000
END:STANDARD
BEGIN:DAYLIGHT
TZOFFSETFROM:-0800
TZOFFSETTO:-0700
TZNAME:PDT
DTSTART:20260308T100000
END:DAYLIGHT
BEGIN:STANDARD
TZOFFSETFROM:-0700
TZOFFSETTO:-0800
TZNAME:PST
DTSTART:20261101T090000
END:STANDARD
END:VTIMEZONE
BEGIN:VEVENT
DTSTART;TZID=America/Los_Angeles:20250802T080000
DTEND;TZID=America/Los_Angeles:20250802T100000
DTSTAMP:20260423T094823
CREATED:20250730T172937Z
LAST-MODIFIED:20250730T172937Z
UID:10481-1754121600-1754128800@h2oc.org
SUMMARY:Beach Cleanup - San Clemente Pier
DESCRIPTION:Help prevent litter from harming local water resources at San Clemente Pier with Surfrider. Bring your reusable water bottle\, sunscreen\, and work/garden gloves. Participants will have everything provided to do a beach clean and data collection. Advanced sign up is required. Sign up online for the exact address.
URL:https://h2oc.org/event/beach-cleanup-san-clemente-pier-3/
LOCATION:622 Avenida Del Mar\, San Clemente\, CA 92672
END:VEVENT
BEGIN:VEVENT
DTSTART;TZID=America/Los_Angeles:20250810T081500
DTEND;TZID=America/Los_Angeles:20250810T110000
DTSTAMP:20260423T094823
CREATED:20250730T180403Z
LAST-MODIFIED:20250730T180403Z
UID:10498-1754813700-1754823600@h2oc.org
SUMMARY:Harbor Cleanup - Huntington Harbor
DESCRIPTION:Want to learn about watersheds\, how to collect data for making environmental action decisions\, and help cleanup your environment? Hop into a kayak or stand-up paddleboard with Surfrider at their next Huntington Harbor cleanup! There is a 30 person limit and advanced registration is required.
URL:https://h2oc.org/event/harbor-cleanup-huntington-harbor/
LOCATION:4281 Warner Avenue Huntington Beach\, CA 92649.
END:VEVENT
BEGIN:VEVENT
DTSTART;TZID=America/Los_Angeles:20250816T090000
DTEND;TZID=America/Los_Angeles:20250816T110000
DTSTAMP:20260423T094823
CREATED:20250730T180950Z
LAST-MODIFIED:20250730T180950Z
UID:10502-1755334800-1755342000@h2oc.org
SUMMARY:Native Plant Restoration  at River's End Park in Seal Beach
DESCRIPTION:At this free event\, you will get the opportunity to remove invasive weeds while enjoying the beauty of River’s End Park! Gloves and limited tools will be supplied. Please bring your own if you have them! Sign up for the exact address.
URL:https://h2oc.org/event/native-plant-restoration-at-rivers-end-park-in-seal-beach-3/
LOCATION:River’s End Park Seal Beach\, CA ( 15 1st St\, Seal Beach\, CA 90740)\, United States
END:VEVENT
BEGIN:VEVENT
DTSTART;TZID=America/Los_Angeles:20250820T180000
DTEND;TZID=America/Los_Angeles:20250820T193000
DTSTAMP:20260423T094823
CREATED:20250730T181542Z
LAST-MODIFIED:20250730T181542Z
UID:10507-1755712800-1755718200@h2oc.org
SUMMARY:Native Plant Restoration at Irby Park
DESCRIPTION:Join Surfrider at Irby Park to help restore the native landscape! Activities include removing invasive weeds\, planting native vegetation\, and working on other important projects. This is a free event and advanced registration is required. Sign up online for the exact address.
URL:https://h2oc.org/event/native-plant-restoration-at-irby-park-12/
LOCATION:Irby Park (6770 Ruth Dr. Huntington Beach\, CA)\, Huntington Beach
END:VEVENT
BEGIN:VEVENT
DTSTART;TZID=America/Los_Angeles:20250821T180000
DTEND;TZID=America/Los_Angeles:20250821T190000
DTSTAMP:20260423T094823
CREATED:20250730T183631Z
LAST-MODIFIED:20250730T185528Z
UID:10509-1755799200-1755802800@h2oc.org
SUMMARY:Beautiful Gardens on Minimal Water
DESCRIPTION:Rain or shine\, you can use the principles of watershed-wise landscaping to maintain a flourishing garden! In this workshop you will learn about key management practices\, converting lawns to organically maintained polycultures\, efficient irrigation\, and protecting your trees when the water gets dialed back. This class is free but advanced registration is required.
URL:https://h2oc.org/event/native-plant-restoration-at-irby-park-13/
LOCATION:Virtual
END:VEVENT
BEGIN:VEVENT
DTSTART;TZID=America/Los_Angeles:20250822T090000
DTEND;TZID=America/Los_Angeles:20250822T120000
DTSTAMP:20260423T094823
CREATED:20250730T185828Z
LAST-MODIFIED:20250730T185828Z
UID:10516-1755853200-1755864000@h2oc.org
SUMMARY:Doheny State Beach Cleanup
DESCRIPTION:Gather your friends and family to join the Doheny State Beach Foundation for their Community Beach Cleanup! Keep our beaches clean while enjoying an incredible view. No advanced registration is required.
URL:https://h2oc.org/event/doheny-state-beach-cleanup-2/
LOCATION:Doheny State Beach (25300 Dana Point Harbor Dr\, Dana Point\, CA 92629)\, Dana Point
END:VEVENT
BEGIN:VEVENT
DTSTART;TZID=America/Los_Angeles:20250823T090000
DTEND;TZID=America/Los_Angeles:20250823T120000
DTSTAMP:20260423T094823
CREATED:20250731T155711Z
LAST-MODIFIED:20250731T155711Z
UID:10524-1755939600-1755950400@h2oc.org
SUMMARY:Salk Creek County Beach Cleanup
DESCRIPTION:Help us preserve\, protect\, and enhance our nation’s beaches and shores\, and connect with our partner\, the American Shore & Beach Preservation Association (ASBPA)\, as well as other coastal advocates in the Dana Point community! Volunteers are invited to join Oceanic Global\, and Corona USA for a litter cleanup of the area surrounding Dana Point\, preventing marine debris and microplastics from entering our coastal waterways
URL:https://h2oc.org/event/salk-creek-county-beach-cleanup/
LOCATION:Salt Creek Beach (71 Ritz Cove Dr. Dana Point\, CA 92629\, Dana Point
END:VEVENT
BEGIN:VEVENT
DTSTART;TZID=America/Los_Angeles:20250824T080000
DTEND;TZID=America/Los_Angeles:20250824T120000
DTSTAMP:20260423T094823
CREATED:20250730T190529Z
LAST-MODIFIED:20250730T192344Z
UID:10518-1756022400-1756036800@h2oc.org
SUMMARY:Beach Cleanup - Warner/PCH
DESCRIPTION:Show you care about the local community and our waterways. Join Surfrider to learn about their beach cleanup\, rid trash from the shores\, and collect data needed for making environmental decisions. Sign up online for the exact address.
URL:https://h2oc.org/event/beach-cleanup-warner-pch/
LOCATION:Huntington Beach\, CA 92649 (sign up to see exact location)\, Huntington Beach
END:VEVENT
BEGIN:VEVENT
DTSTART;TZID=America/Los_Angeles:20250828T180000
DTEND;TZID=America/Los_Angeles:20250828T193000
DTSTAMP:20260423T094823
CREATED:20250731T160012Z
LAST-MODIFIED:20250731T160012Z
UID:10522-1756404000-1756409400@h2oc.org
SUMMARY:Efficient Supplemental Irrigation
DESCRIPTION:This is part of a free series on learning how to design a yard using the principles of watershed-wise landscaping. This session will focus on irrigation systems\, programming a controller\, why drip over spray\, and easy ways to conserve water. Advanced registration is required.
URL:https://h2oc.org/event/efficient-supplemental-irrigation/
LOCATION:Virtual
END:VEVENT
BEGIN:VEVENT
DTSTART;TZID=America/Los_Angeles:20250831T080000
DTEND;TZID=America/Los_Angeles:20250831T100000
DTSTAMP:20260423T094823
CREATED:20250731T160213Z
LAST-MODIFIED:20250731T160226Z
UID:10534-1756627200-1756634400@h2oc.org
SUMMARY:Surf + Beach Cleanup - Newport Beach Pier's Farmer's Market
DESCRIPTION:Protect our waterways while you support your local community. Join Surfrider at the Newport Pier’s farmer’s market to learn about their beach cleanup and rid trash from our shores. Sign up online for the exact address.
URL:https://h2oc.org/event/surf-beach-cleanup-newport-beach-piers-farmers-market-4/
LOCATION:1 Newport Pier\, Newport Beach\, CA 92663
END:VEVENT
END:VCALENDAR