BEGIN:VCALENDAR
VERSION:2.0
PRODID:-//H2OC Stormwater Program - ECPv6.15.20//NONSGML v1.0//EN
CALSCALE:GREGORIAN
METHOD:PUBLISH
X-ORIGINAL-URL:https://h2oc.org
X-WR-CALDESC:Events for H2OC Stormwater Program
REFRESH-INTERVAL;VALUE=DURATION:PT1H
X-Robots-Tag:noindex
X-PUBLISHED-TTL:PT1H
BEGIN:VTIMEZONE
TZID:America/Los_Angeles
BEGIN:DAYLIGHT
TZOFFSETFROM:-0800
TZOFFSETTO:-0700
TZNAME:PDT
DTSTART:20240310T100000
END:DAYLIGHT
BEGIN:STANDARD
TZOFFSETFROM:-0700
TZOFFSETTO:-0800
TZNAME:PST
DTSTART:20241103T090000
END:STANDARD
BEGIN:DAYLIGHT
TZOFFSETFROM:-0800
TZOFFSETTO:-0700
TZNAME:PDT
DTSTART:20250309T100000
END:DAYLIGHT
BEGIN:STANDARD
TZOFFSETFROM:-0700
TZOFFSETTO:-0800
TZNAME:PST
DTSTART:20251102T090000
END:STANDARD
BEGIN:DAYLIGHT
TZOFFSETFROM:-0800
TZOFFSETTO:-0700
TZNAME:PDT
DTSTART:20260308T100000
END:DAYLIGHT
BEGIN:STANDARD
TZOFFSETFROM:-0700
TZOFFSETTO:-0800
TZNAME:PST
DTSTART:20261101T090000
END:STANDARD
END:VTIMEZONE
BEGIN:VEVENT
DTSTART;TZID=America/Los_Angeles:20250605T180000
DTEND;TZID=America/Los_Angeles:20250605T190000
DTSTAMP:20260423T125319
CREATED:20250530T160947Z
LAST-MODIFIED:20250530T160947Z
UID:10259-1749146400-1749150000@h2oc.org
SUMMARY:Irrigation Water Use & Efficiency
DESCRIPTION:Curious about reducing water use in your garden or yard? This webinar will go over how to program a controller\, why to use drop irrigation over spray sprinklers\, and easy ways to conserve water. This class is free\, but advanced registration is required.
URL:https://h2oc.org/event/irrigation-water-use-efficiency/
LOCATION:Virtual
END:VEVENT
BEGIN:VEVENT
DTSTART;TZID=America/Los_Angeles:20250607T080000
DTEND;TZID=America/Los_Angeles:20250607T100000
DTSTAMP:20260423T125319
CREATED:20250530T162018Z
LAST-MODIFIED:20250530T173522Z
UID:10282-1749283200-1749290400@h2oc.org
SUMMARY:Beach Cleanup - San Clemente Pier
DESCRIPTION:Join Surfrider’s beach cleanup at San Clemente Pier and help prevent litter from harming our local water resources. Bring your reusable water bottle\, sunscreen\, and work or garden gloves. Participants will have everything provided to do a beach clean and data collection. Advanced sign up is required. Sign up online for the exact address.
URL:https://h2oc.org/event/beach-cleanup-san-clemente-pier/
LOCATION:San Clemente\, 622 Avenida Del Mar\, San Clemente\, CA\, 92672\, United States
END:VEVENT
BEGIN:VEVENT
DTSTART;TZID=America/Los_Angeles:20250607T090000
DTEND;TZID=America/Los_Angeles:20250607T110000
DTSTAMP:20260423T125319
CREATED:20250530T161439Z
LAST-MODIFIED:20250530T173840Z
UID:10271-1749286800-1749294000@h2oc.org
SUMMARY:Native Plant Restoration at Irby Park
DESCRIPTION:Dig\, pull\, and plant at Irby Park with Surfrider. Activities include removing invasive weeds\, planting native vegetation\, and working on other important projects. This is a free event and advanced registration is required. Sign up online for the exact address.
URL:https://h2oc.org/event/native-plant-restoration-at-irby-park-9/
LOCATION:Huntington Beach\, Irby Park 6770 Ruth Dr.\, Huntington Beach\, CA\, United States
END:VEVENT
BEGIN:VEVENT
DTSTART;TZID=America/Los_Angeles:20250607T090000
DTEND;TZID=America/Los_Angeles:20250607T110000
DTSTAMP:20260423T125319
CREATED:20250530T172253Z
LAST-MODIFIED:20250530T172253Z
UID:10339-1749286800-1749294000@h2oc.org
SUMMARY:Calafia Beach San Clemente Cleanup
DESCRIPTION:Volunteer at Calafia Beach to protect our beautiful ocean. To ensure safety and comfort please bring closed toe shoes\, a reusable water bottle\, trash picker\, sun protection (sunscreen\, hat\, and sunglasses)\, and comfortable clothing. Advanced registration is required. Sign up online for the exact address.
URL:https://h2oc.org/event/calafia-beach-san-clemente-cleanup/
LOCATION:San Clemente\, 622 Avenida Del Mar\, San Clemente\, CA\, 92672\, United States
END:VEVENT
BEGIN:VEVENT
DTSTART;TZID=America/Los_Angeles:20250607T100000
DTEND;TZID=America/Los_Angeles:20250607T130000
DTSTAMP:20260423T125319
CREATED:20250530T161724Z
LAST-MODIFIED:20250530T172501Z
UID:10275-1749290400-1749301200@h2oc.org
SUMMARY:Water Festival
DESCRIPTION:Bring the whole family for a fun day learning about water and getting to know your water provider. Enjoy food and children’s activities\, experience a living tide pool\, explore the WaterWorks Garden\, and more! Be sure to plan on viewing the movie\, The Journey of Water\, and sign up for an Infrastructure Tour too. Advanced registration is required for specific tours. Check website for more info.
URL:https://h2oc.org/event/water-festival/
LOCATION:SMWD Headquarters\, 26111 Antonio Pkwy\, Rancho Santa Margarita\, CA\, 92688\, United States
END:VEVENT
BEGIN:VEVENT
DTSTART;TZID=America/Los_Angeles:20250608T080000
DTEND;TZID=America/Los_Angeles:20250608T110000
DTSTAMP:20260423T125319
CREATED:20250530T164713Z
LAST-MODIFIED:20250530T172854Z
UID:10286-1749369600-1749380400@h2oc.org
SUMMARY:Yoga\, Beach Cleanup\, and Lunch & Learn (World Oceans Day)
DESCRIPTION:Celebrate World Ocean Day by preventing pollution and having fun at Baby Beach! Join Stand Up to Trash in Dana Point for a day filled with free yoga\, a beach cleanup\, and a free lunch and learn session at Ocean Institute. Stand Up to Trash encourages participants to bring reusable supplies such as bags\, gloves\, and water bottles to reduce additional waste. This event is open to all ages advanced registration is required.
URL:https://h2oc.org/event/yoga-beach-cleanup-and-lunch-learn-world-oceans-day/
LOCATION:Dana Point\, 34451 Ensenada Pl\, Dana Point\, CA\, 92629\, United States
END:VEVENT
BEGIN:VEVENT
DTSTART;TZID=America/Los_Angeles:20250611T180000
DTEND;TZID=America/Los_Angeles:20250611T193000
DTSTAMP:20260423T125319
CREATED:20250530T165143Z
LAST-MODIFIED:20250530T165143Z
UID:10304-1749664800-1749670200@h2oc.org
SUMMARY:Transform Your Landscape on a Budget
DESCRIPTION:This in-person workshop covers how to remove turf and replace it with a watershed-wise landscape by understanding expenses\, prioritizing the choices\, and determining how to minimize costs. Topics include: key elements of a watershed-wise garden\, working around limited budgets\, pros and cons of collaborating with a professional versus DIY\, and more! The class is free\, but advance registration online is required as we have limited seating.
URL:https://h2oc.org/event/transform-your-landscape-on-a-budget/
LOCATION:Norman P. Murray Community Center\, 24932 Veterans Way\, Mission Viejo\, CA\, United States
END:VEVENT
BEGIN:VEVENT
DTSTART;TZID=America/Los_Angeles:20250614T090000
DTEND;TZID=America/Los_Angeles:20250614T110000
DTSTAMP:20260423T125319
CREATED:20250530T173158Z
LAST-MODIFIED:20250530T173158Z
UID:10308-1749891600-1749898800@h2oc.org
SUMMARY:Bolsa Chica State Beach Tower 28 Cleanup
DESCRIPTION:Do your part in keeping our waterways clean with Orange County Coastkeeper and prevent pollution at Bolsa Chica State Beach! Make sure to bring closed-toed shoes\, comfortable and weather-appropriate clothing\, sun protection\, and your own cleanup equipment. This is a free event and advanced registration online is required. Sign up for the exact address.
URL:https://h2oc.org/event/bolsa-chica-state-beach-tower-28-cleanup/
LOCATION:Huntington Beach\, Irby Park 6770 Ruth Dr.\, Huntington Beach\, CA\, United States
END:VEVENT
BEGIN:VEVENT
DTSTART;TZID=America/Los_Angeles:20250617T180000
DTEND;TZID=America/Los_Angeles:20250617T190000
DTSTAMP:20260423T125319
CREATED:20250530T165838Z
LAST-MODIFIED:20250530T165838Z
UID:10311-1750183200-1750186800@h2oc.org
SUMMARY:Goodbye Grass\, Hello Garden: Qualify for Rebates
DESCRIPTION:In this webinar you will learn about removing turf without the use of chemicals\, replacing turf with climate-appropriate plants\, and how to successfully apply for a turf replacement rebate. This class is free\, but advanced registration is required.
URL:https://h2oc.org/event/goodbye-grass-hello-garden-qualify-for-rebates-20/
LOCATION:Virtual
END:VEVENT
BEGIN:VEVENT
DTSTART;TZID=America/Los_Angeles:20250619T180000
DTEND;TZID=America/Los_Angeles:20250619T191500
DTSTAMP:20260423T125319
CREATED:20250530T170304Z
LAST-MODIFIED:20250530T170304Z
UID:10313-1750356000-1750360500@h2oc.org
SUMMARY:Drip Irrigation Fundamentals
DESCRIPTION:In this webinar you will learn about soil moisture balance\, key components of a properly installed drip system\, typical problems with drip irrigation\, and how to avoid them\, and developing a successful maintenance practice. This class is free\, but advanced registration is required.
URL:https://h2oc.org/event/drip-irrigation-fundamentals/
LOCATION:Virtual
END:VEVENT
BEGIN:VEVENT
DTSTART;TZID=America/Los_Angeles:20250621T090000
DTEND;TZID=America/Los_Angeles:20250621T110000
DTSTAMP:20260423T125319
CREATED:20250530T170556Z
LAST-MODIFIED:20250530T170556Z
UID:10320-1750496400-1750503600@h2oc.org
SUMMARY:Native Plant Restoration  at River's End Park in Seal Beach
DESCRIPTION:Provide support to the critical habitat of River’s End Park during this free event. Here you will get the opportunity to remove invasive weeds while enjoying the beauty of this critical habitat! Gloves and limited tools will be supplied. Please bring your own if you have them! Sign up for the exact address.
URL:https://h2oc.org/event/native-plant-restoration-at-rivers-end-park-in-seal-beach/
LOCATION:River’s End Park Seal Beach\, CA\, 15 1st st\, Seal Beach\, CA\, 90740\, United States
END:VEVENT
BEGIN:VEVENT
DTSTART;TZID=America/Los_Angeles:20250622T080000
DTEND;TZID=America/Los_Angeles:20250622T100000
DTSTAMP:20260423T125319
CREATED:20250530T170930Z
LAST-MODIFIED:20250530T170930Z
UID:10325-1750579200-1750586400@h2oc.org
SUMMARY:Surf + Beach Cleanup - Newport Beach Pier's Farmer's Market
DESCRIPTION:Show your care of the local community and our waterways. Join Surfrider at the Newport Pier’s farmer’s market to learn about their beach cleanup and rid trash from the shores. Sign up online for the exact address.
URL:https://h2oc.org/event/surf-beach-cleanup-newport-beach-piers-farmers-market-2/
LOCATION:Newport Beach\, 1 Newport Pier\, Newport Beach\, CA\, 92663\, United States
END:VEVENT
BEGIN:VEVENT
DTSTART;TZID=America/Los_Angeles:20250624T180000
DTEND;TZID=America/Los_Angeles:20250624T190000
DTSTAMP:20260423T125319
CREATED:20250530T171202Z
LAST-MODIFIED:20250530T171202Z
UID:10327-1750788000-1750791600@h2oc.org
SUMMARY:Drip Irrigation Essentials
DESCRIPTION:Poor irrigation practices are the number one reason plants fail but that doesn’t have to be your fate. In this webinar you will learn about soil moisture balance\, key components of a properly installed drip system\, typical problems with drip irrigation and how to avoid them\, and developing a successful maintenance practice. This class is free\, but advanced registration is required.
URL:https://h2oc.org/event/drip-irrigation-essentials/
LOCATION:Virtual
END:VEVENT
BEGIN:VEVENT
DTSTART;TZID=America/Los_Angeles:20250629T080000
DTEND;TZID=America/Los_Angeles:20250629T120000
DTSTAMP:20260423T125319
CREATED:20250530T171513Z
LAST-MODIFIED:20250530T171513Z
UID:10329-1751184000-1751198400@h2oc.org
SUMMARY:Beach Cleanup - Magnolia/PCH
DESCRIPTION:Get ready to skim the beach\, shoreline\, parking lot\, etc. for litter at the latest Magnolia/PCH cleanup. With Surfrider\, you can help clean the shores and collect data to use for making environmental action decisions. Sign up online for the exact address.
URL:https://h2oc.org/event/beach-cleanup-magnolia-pch/
LOCATION:Huntington Beach\, Irby Park 6770 Ruth Dr.\, Huntington Beach\, CA\, United States
END:VEVENT
END:VCALENDAR