BEGIN:VCALENDAR
VERSION:2.0
PRODID:-//H2OC Stormwater Program - ECPv6.15.20//NONSGML v1.0//EN
CALSCALE:GREGORIAN
METHOD:PUBLISH
X-WR-CALNAME:H2OC Stormwater Program
X-ORIGINAL-URL:https://h2oc.org
X-WR-CALDESC:Events for H2OC Stormwater Program
REFRESH-INTERVAL;VALUE=DURATION:PT1H
X-Robots-Tag:noindex
X-PUBLISHED-TTL:PT1H
BEGIN:VTIMEZONE
TZID:America/Los_Angeles
BEGIN:DAYLIGHT
TZOFFSETFROM:-0800
TZOFFSETTO:-0700
TZNAME:PDT
DTSTART:20240310T100000
END:DAYLIGHT
BEGIN:STANDARD
TZOFFSETFROM:-0700
TZOFFSETTO:-0800
TZNAME:PST
DTSTART:20241103T090000
END:STANDARD
BEGIN:DAYLIGHT
TZOFFSETFROM:-0800
TZOFFSETTO:-0700
TZNAME:PDT
DTSTART:20250309T100000
END:DAYLIGHT
BEGIN:STANDARD
TZOFFSETFROM:-0700
TZOFFSETTO:-0800
TZNAME:PST
DTSTART:20251102T090000
END:STANDARD
BEGIN:DAYLIGHT
TZOFFSETFROM:-0800
TZOFFSETTO:-0700
TZNAME:PDT
DTSTART:20260308T100000
END:DAYLIGHT
BEGIN:STANDARD
TZOFFSETFROM:-0700
TZOFFSETTO:-0800
TZNAME:PST
DTSTART:20261101T090000
END:STANDARD
END:VTIMEZONE
BEGIN:VEVENT
DTSTART;TZID=America/Los_Angeles:20250928T080000
DTEND;TZID=America/Los_Angeles:20250928T093000
DTSTAMP:20260423T125510
CREATED:20250919T153708Z
LAST-MODIFIED:20250919T153708Z
UID:10583-1759046400-1759051800@h2oc.org
SUMMARY:Surf + Beach Cleanup - Newport Beach Pier's Farmer's Market
DESCRIPTION:Protect our waterways while you support your local community. Join Surfrider at the Newport Pier’s farmer’s market to learn about their beach cleanup and rid trash from our shores. Sign up online for the exact address.
URL:https://h2oc.org/event/surf-beach-cleanup-newport-beach-piers-farmers-market-5/
LOCATION:1 Newport Pier\, Newport Beach\, CA 92663
END:VEVENT
BEGIN:VEVENT
DTSTART;TZID=America/Los_Angeles:20250925T180000
DTEND;TZID=America/Los_Angeles:20250925T193000
DTSTAMP:20260423T125510
CREATED:20250902T171006Z
LAST-MODIFIED:20250902T171213Z
UID:10580-1758823200-1758828600@h2oc.org
SUMMARY:Lawn Transformation on a Budget
DESCRIPTION:Lawn transportation can be overwhelming\, but this webinar can help. Learn about the expenses involved\, prioritizing the choices\, and minimizing costs of replacing turf. Advanced registration is required.
URL:https://h2oc.org/event/lawn-transformation-on-a-budget/
LOCATION:Virtual
END:VEVENT
BEGIN:VEVENT
DTSTART;TZID=America/Los_Angeles:20250923T090000
DTEND;TZID=America/Los_Angeles:20250923T160000
DTSTAMP:20260423T125510
CREATED:20250919T154249Z
LAST-MODIFIED:20250919T154249Z
UID:10635-1758618000-1758643200@h2oc.org
SUMMARY:Dual Water Certification Program
DESCRIPTION:The California Landscape Contractors Association and Metropolitan Water District of Southern California now offer a one-of-a-kind certification and educational opportunity for landscape professionals in Southern California. These workshops will offer CEUs for your current certifications and provide you with a participation certificate. The Dual Water Certification classes are free and available only to those within the Metropolitan Water District’s service area.
URL:https://h2oc.org/event/dual-water-certification-program/
LOCATION:Register for the location
END:VEVENT
BEGIN:VEVENT
DTSTART;TZID=America/Los_Angeles:20250920T080000
DTEND;TZID=America/Los_Angeles:20250920T170000
DTSTAMP:20260423T125510
CREATED:20250902T170321Z
LAST-MODIFIED:20250902T170321Z
UID:10573-1758355200-1758387600@h2oc.org
SUMMARY:Coastal and Inner Coastal Cleanup Day - Orange County Cleanups List
DESCRIPTION:Community members of all ages across Orange County are needed to help keep our local waterways clean! Volunteers should wear appropriate attire\, including closed-toe shoes or hiking boots and bring their reusable water bottles\, own gardening/work gloves for the Annual Coast Cleanup Day. Some events require advanced registration\, check the event closest to you for more information!
URL:https://h2oc.org/event/coastal-and-inner-coastal-cleanup-day-orange-county-cleanups-list/
LOCATION:Various cities across Orange County
END:VEVENT
BEGIN:VEVENT
DTSTART;TZID=America/Los_Angeles:20250907T081500
DTEND;TZID=America/Los_Angeles:20250907T110000
DTSTAMP:20260423T125510
CREATED:20250902T165124Z
LAST-MODIFIED:20250902T165124Z
UID:10570-1757232900-1757242800@h2oc.org
SUMMARY:Harbor Cleanup - Huntington Harbor
DESCRIPTION:Want to learn about watersheds\, how to collect data for making environmental action decisions\, and help cleanup your environment? Hop into a kayak or stand-up paddleboard with Surfrider at their next Huntington Harbor cleanup! There is a 30 person limit and advanced registration is required.
URL:https://h2oc.org/event/harbor-cleanup-huntington-harbor-2/
LOCATION:4281 Warner Avenue Huntington Beach\, CA 92649.
END:VEVENT
BEGIN:VEVENT
DTSTART;TZID=America/Los_Angeles:20250906T180000
DTEND;TZID=America/Los_Angeles:20250906T193000
DTSTAMP:20260423T125510
CREATED:20250902T160714Z
LAST-MODIFIED:20250902T160714Z
UID:10566-1757181600-1757187000@h2oc.org
SUMMARY:Native Plant Restoration at Irby Park
DESCRIPTION:Join Surfrider at Irby Park to help restore the native landscape! Activities include removing invasive weeds\, planting native vegetation\, and working on other important projects. This is a free event and advanced registration is required. Sign up online for the exact address.
URL:https://h2oc.org/event/native-plant-restoration-at-irby-park-14/
LOCATION:Irby Park (6770 Ruth Dr. Huntington Beach\, CA)\, Huntington Beach
END:VEVENT
BEGIN:VEVENT
DTSTART;TZID=America/Los_Angeles:20250906T080000
DTEND;TZID=America/Los_Angeles:20250906T100000
DTSTAMP:20260423T125510
CREATED:20250902T160122Z
LAST-MODIFIED:20250902T160122Z
UID:10561-1757145600-1757152800@h2oc.org
SUMMARY:Beach Cleanup - San Clemente Pier
DESCRIPTION:Help prevent litter from harming local water resources at San Clemente Pier with Surfrider. Bring your reusable water bottle\, sunscreen\, and work/garden gloves. Participants will have everything provided to do a beach clean and data collection. Advanced sign up is required. Sign up online for the exact address.
URL:https://h2oc.org/event/beach-cleanup-san-clemente-pier-4/
LOCATION:622 Avenida Del Mar\, San Clemente\, CA 92672
END:VEVENT
BEGIN:VEVENT
DTSTART;TZID=America/Los_Angeles:20250831T080000
DTEND;TZID=America/Los_Angeles:20250831T100000
DTSTAMP:20260423T125510
CREATED:20250731T160213Z
LAST-MODIFIED:20250731T160226Z
UID:10534-1756627200-1756634400@h2oc.org
SUMMARY:Surf + Beach Cleanup - Newport Beach Pier's Farmer's Market
DESCRIPTION:Protect our waterways while you support your local community. Join Surfrider at the Newport Pier’s farmer’s market to learn about their beach cleanup and rid trash from our shores. Sign up online for the exact address.
URL:https://h2oc.org/event/surf-beach-cleanup-newport-beach-piers-farmers-market-4/
LOCATION:1 Newport Pier\, Newport Beach\, CA 92663
END:VEVENT
BEGIN:VEVENT
DTSTART;TZID=America/Los_Angeles:20250828T180000
DTEND;TZID=America/Los_Angeles:20250828T193000
DTSTAMP:20260423T125510
CREATED:20250731T160012Z
LAST-MODIFIED:20250731T160012Z
UID:10522-1756404000-1756409400@h2oc.org
SUMMARY:Efficient Supplemental Irrigation
DESCRIPTION:This is part of a free series on learning how to design a yard using the principles of watershed-wise landscaping. This session will focus on irrigation systems\, programming a controller\, why drip over spray\, and easy ways to conserve water. Advanced registration is required.
URL:https://h2oc.org/event/efficient-supplemental-irrigation/
LOCATION:Virtual
END:VEVENT
BEGIN:VEVENT
DTSTART;TZID=America/Los_Angeles:20250824T080000
DTEND;TZID=America/Los_Angeles:20250824T120000
DTSTAMP:20260423T125510
CREATED:20250730T190529Z
LAST-MODIFIED:20250730T192344Z
UID:10518-1756022400-1756036800@h2oc.org
SUMMARY:Beach Cleanup - Warner/PCH
DESCRIPTION:Show you care about the local community and our waterways. Join Surfrider to learn about their beach cleanup\, rid trash from the shores\, and collect data needed for making environmental decisions. Sign up online for the exact address.
URL:https://h2oc.org/event/beach-cleanup-warner-pch/
LOCATION:Huntington Beach\, CA 92649 (sign up to see exact location)\, Huntington Beach
END:VEVENT
BEGIN:VEVENT
DTSTART;TZID=America/Los_Angeles:20250823T090000
DTEND;TZID=America/Los_Angeles:20250823T120000
DTSTAMP:20260423T125510
CREATED:20250731T155711Z
LAST-MODIFIED:20250731T155711Z
UID:10524-1755939600-1755950400@h2oc.org
SUMMARY:Salk Creek County Beach Cleanup
DESCRIPTION:Help us preserve\, protect\, and enhance our nation’s beaches and shores\, and connect with our partner\, the American Shore & Beach Preservation Association (ASBPA)\, as well as other coastal advocates in the Dana Point community! Volunteers are invited to join Oceanic Global\, and Corona USA for a litter cleanup of the area surrounding Dana Point\, preventing marine debris and microplastics from entering our coastal waterways
URL:https://h2oc.org/event/salk-creek-county-beach-cleanup/
LOCATION:Salt Creek Beach (71 Ritz Cove Dr. Dana Point\, CA 92629\, Dana Point
END:VEVENT
BEGIN:VEVENT
DTSTART;TZID=America/Los_Angeles:20250822T090000
DTEND;TZID=America/Los_Angeles:20250822T120000
DTSTAMP:20260423T125510
CREATED:20250730T185828Z
LAST-MODIFIED:20250730T185828Z
UID:10516-1755853200-1755864000@h2oc.org
SUMMARY:Doheny State Beach Cleanup
DESCRIPTION:Gather your friends and family to join the Doheny State Beach Foundation for their Community Beach Cleanup! Keep our beaches clean while enjoying an incredible view. No advanced registration is required.
URL:https://h2oc.org/event/doheny-state-beach-cleanup-2/
LOCATION:Doheny State Beach (25300 Dana Point Harbor Dr\, Dana Point\, CA 92629)\, Dana Point
END:VEVENT
BEGIN:VEVENT
DTSTART;TZID=America/Los_Angeles:20250821T180000
DTEND;TZID=America/Los_Angeles:20250821T190000
DTSTAMP:20260423T125510
CREATED:20250730T183631Z
LAST-MODIFIED:20250730T185528Z
UID:10509-1755799200-1755802800@h2oc.org
SUMMARY:Beautiful Gardens on Minimal Water
DESCRIPTION:Rain or shine\, you can use the principles of watershed-wise landscaping to maintain a flourishing garden! In this workshop you will learn about key management practices\, converting lawns to organically maintained polycultures\, efficient irrigation\, and protecting your trees when the water gets dialed back. This class is free but advanced registration is required.
URL:https://h2oc.org/event/native-plant-restoration-at-irby-park-13/
LOCATION:Virtual
END:VEVENT
BEGIN:VEVENT
DTSTART;TZID=America/Los_Angeles:20250820T180000
DTEND;TZID=America/Los_Angeles:20250820T193000
DTSTAMP:20260423T125510
CREATED:20250730T181542Z
LAST-MODIFIED:20250730T181542Z
UID:10507-1755712800-1755718200@h2oc.org
SUMMARY:Native Plant Restoration at Irby Park
DESCRIPTION:Join Surfrider at Irby Park to help restore the native landscape! Activities include removing invasive weeds\, planting native vegetation\, and working on other important projects. This is a free event and advanced registration is required. Sign up online for the exact address.
URL:https://h2oc.org/event/native-plant-restoration-at-irby-park-12/
LOCATION:Irby Park (6770 Ruth Dr. Huntington Beach\, CA)\, Huntington Beach
END:VEVENT
BEGIN:VEVENT
DTSTART;TZID=America/Los_Angeles:20250816T090000
DTEND;TZID=America/Los_Angeles:20250816T110000
DTSTAMP:20260423T125510
CREATED:20250730T180950Z
LAST-MODIFIED:20250730T180950Z
UID:10502-1755334800-1755342000@h2oc.org
SUMMARY:Native Plant Restoration  at River's End Park in Seal Beach
DESCRIPTION:At this free event\, you will get the opportunity to remove invasive weeds while enjoying the beauty of River’s End Park! Gloves and limited tools will be supplied. Please bring your own if you have them! Sign up for the exact address.
URL:https://h2oc.org/event/native-plant-restoration-at-rivers-end-park-in-seal-beach-3/
LOCATION:River’s End Park Seal Beach\, CA ( 15 1st St\, Seal Beach\, CA 90740)\, United States
END:VEVENT
BEGIN:VEVENT
DTSTART;TZID=America/Los_Angeles:20250810T081500
DTEND;TZID=America/Los_Angeles:20250810T110000
DTSTAMP:20260423T125510
CREATED:20250730T180403Z
LAST-MODIFIED:20250730T180403Z
UID:10498-1754813700-1754823600@h2oc.org
SUMMARY:Harbor Cleanup - Huntington Harbor
DESCRIPTION:Want to learn about watersheds\, how to collect data for making environmental action decisions\, and help cleanup your environment? Hop into a kayak or stand-up paddleboard with Surfrider at their next Huntington Harbor cleanup! There is a 30 person limit and advanced registration is required.
URL:https://h2oc.org/event/harbor-cleanup-huntington-harbor/
LOCATION:4281 Warner Avenue Huntington Beach\, CA 92649.
END:VEVENT
BEGIN:VEVENT
DTSTART;TZID=America/Los_Angeles:20250802T080000
DTEND;TZID=America/Los_Angeles:20250802T100000
DTSTAMP:20260423T125510
CREATED:20250730T172937Z
LAST-MODIFIED:20250730T172937Z
UID:10481-1754121600-1754128800@h2oc.org
SUMMARY:Beach Cleanup - San Clemente Pier
DESCRIPTION:Help prevent litter from harming local water resources at San Clemente Pier with Surfrider. Bring your reusable water bottle\, sunscreen\, and work/garden gloves. Participants will have everything provided to do a beach clean and data collection. Advanced sign up is required. Sign up online for the exact address.
URL:https://h2oc.org/event/beach-cleanup-san-clemente-pier-3/
LOCATION:622 Avenida Del Mar\, San Clemente\, CA 92672
END:VEVENT
BEGIN:VEVENT
DTSTART;TZID=America/Los_Angeles:20250730T180000
DTEND;TZID=America/Los_Angeles:20250730T193000
DTSTAMP:20260423T125510
CREATED:20250730T174806Z
LAST-MODIFIED:20250730T174806Z
UID:10487-1753898400-1753903800@h2oc.org
SUMMARY:Native Plant Restoration at Irby Park
DESCRIPTION:Join Surfrider at Irby Park to help restore the native landscape! Activities include removing invasive weeds\, planting native vegetation\, and working on other important projects. This is a free event and advanced registration is required. Sign up online for the exact address.
URL:https://h2oc.org/event/native-plant-restoration-at-irby-park-11/
LOCATION:Irby Park (6770 Ruth Dr. Huntington Beach\, CA)\, Huntington Beach
END:VEVENT
BEGIN:VEVENT
DTSTART;TZID=America/Los_Angeles:20250730T090000
DTEND;TZID=America/Los_Angeles:20250730T110000
DTSTAMP:20260423T125510
CREATED:20250730T175345Z
LAST-MODIFIED:20250730T175345Z
UID:10490-1753866000-1753873200@h2oc.org
SUMMARY:Huntington State Beach Tower 9 Cleanup
DESCRIPTION:Do your part in keeping our waterways clean with Orange County Coastkeeper and prevent pollution at Huntington State Beach! Make sure to bring closed-toed shoes\, comfortable and weather-appropriate clothing\, sun protection\, and your own cleanup equipment. This is a free event and advanced registration online is required.
URL:https://h2oc.org/event/huntington-state-beach-tower-9-cleanup-2/
LOCATION:21601 Pacific Coast Hwy\, Huntington Beach\, CA 92646\, Huntington Beach
END:VEVENT
BEGIN:VEVENT
DTSTART;TZID=America/Los_Angeles:20250730T080000
DTEND;TZID=America/Los_Angeles:20250730T110000
DTSTAMP:20260423T125510
CREATED:20250730T175940Z
LAST-MODIFIED:20250730T175940Z
UID:10495-1753862400-1753873200@h2oc.org
SUMMARY:Yoga\, Beach Cleanup\, and Lunch & Learn (5 Year Anniversary Party)
DESCRIPTION:Join Stand Up to Trash in Dana Point for a day filled with free yoga\, a beach cleanup\, and a free lunch and learn session at Ocean Institute. Stand Up to Trash encourages participants to bring reusable supplies such as bags\, gloves\, and water bottles to reduce additional waste. This event is open to all ages advanced registration is required.
URL:https://h2oc.org/event/yoga-beach-cleanup-and-lunch-learn-5-year-anniversary-party/
LOCATION:34451 Ensenada Pl\, Dana Point\, CA 92629
END:VEVENT
BEGIN:VEVENT
DTSTART;TZID=America/Los_Angeles:20250727T080000
DTEND;TZID=America/Los_Angeles:20250727T120000
DTSTAMP:20260423T125510
CREATED:20250701T230031Z
LAST-MODIFIED:20250701T230031Z
UID:10453-1753603200-1753617600@h2oc.org
SUMMARY:Beach Cleanup -San Gabriel River Jetty
DESCRIPTION:Skim the beach\, shoreline\, and parking lot for litter at Surfrider’s San Gabriel River Jetty cleanup. Help clean the shores and collect data to use for making environmental action decisions. Sign up online for the exact address.
URL:https://h2oc.org/event/beach-cleanup-san-gabriel-river-jetty/
LOCATION:15 1st St\, Seal Beach\, CA 90740
END:VEVENT
BEGIN:VEVENT
DTSTART;TZID=America/Los_Angeles:20250720T080000
DTEND;TZID=America/Los_Angeles:20250720T100000
DTSTAMP:20260423T125510
CREATED:20250701T225540Z
LAST-MODIFIED:20250701T225540Z
UID:10445-1752998400-1753005600@h2oc.org
SUMMARY:Surf + Beach Cleanup - Newport Beach Pier's Farmer's Market
DESCRIPTION:Protect our waterways while you support your local community. Join Surfrider at the Newport Pier’s farmer’s market to learn about their beach cleanup and rid trash from our shores. Sign up online for the exact address.
URL:https://h2oc.org/event/surf-beach-cleanup-newport-beach-piers-farmers-market-3/
LOCATION:1 Newport Pier\, Newport Beach\, CA 92663
END:VEVENT
BEGIN:VEVENT
DTSTART;TZID=America/Los_Angeles:20250719T090000
DTEND;TZID=America/Los_Angeles:20250719T110000
DTSTAMP:20260423T125510
CREATED:20250701T225327Z
LAST-MODIFIED:20250701T225327Z
UID:10439-1752915600-1752922800@h2oc.org
SUMMARY:Native Plant Restoration  at River's End Park in Seal Beach
DESCRIPTION:At this free event\, you will get the opportunity to remove invasive weeds while enjoying the beauty of River’s End Park! Gloves and limited tools will be supplied. Please bring your own if you have them! Sign up for the exact address.
URL:https://h2oc.org/event/native-plant-restoration-at-rivers-end-park-in-seal-beach-2/
LOCATION:River’s End Park Seal Beach\, CA ( 15 1st St\, Seal Beach\, CA 90740)\, Seal Beach
END:VEVENT
BEGIN:VEVENT
DTSTART;TZID=America/Los_Angeles:20250718T180000
DTEND;TZID=America/Los_Angeles:20250718T193000
DTSTAMP:20260423T125510
CREATED:20250701T224823Z
LAST-MODIFIED:20250701T224823Z
UID:10433-1752861600-1752867000@h2oc.org
SUMMARY: Gardening in Shade and Other Landscape Challenges
DESCRIPTION:Come learn about different challenges in gardening with California American Water. Topics include creating your own cool retreat\, irrigation considerations\, bringing in color and more! This class is free but advanced registration is required.
URL:https://h2oc.org/event/gardening-in-shade-and-other-landscape-challenges/
LOCATION:Virtual
END:VEVENT
BEGIN:VEVENT
DTSTART;TZID=America/Los_Angeles:20250718T090000
DTEND;TZID=America/Los_Angeles:20250718T120000
DTSTAMP:20260423T125510
CREATED:20250701T225057Z
LAST-MODIFIED:20250701T225057Z
UID:10435-1752829200-1752840000@h2oc.org
SUMMARY:Doheny State Beach Cleanup
DESCRIPTION:Gather your friends and family to join the Doheny State Beach Foundation for their Community Beach Cleanup on Friday\, July 18th! Keep our beaches clean while enjoying an incredible view. No advanced registration is required.
URL:https://h2oc.org/event/doheny-state-beach-cleanup/
LOCATION:Doheny State Beach (25300 Dana Point Harbor Dr\, Dana Point\, CA 92629)\, Dana Point
END:VEVENT
BEGIN:VEVENT
DTSTART;TZID=America/Los_Angeles:20250712T090000
DTEND;TZID=America/Los_Angeles:20250712T110000
DTSTAMP:20260423T125510
CREATED:20250701T224610Z
LAST-MODIFIED:20250701T224610Z
UID:10426-1752310800-1752318000@h2oc.org
SUMMARY:Huntington State Beach Tower 9  Cleanup
DESCRIPTION:Do your part in keeping our waterways clean with Orange County Coastkeeper and prevent pollution at Huntington State Beach! Make sure to bring closed-toed shoes\, comfortable and weather-appropriate clothing\, sun protection\, and your own cleanup equipment. This is a free event and advanced registration online is required. Sign up for the exact address.
URL:https://h2oc.org/event/huntington-state-beach-tower-9-cleanup-8/
LOCATION:21601 Pacific Coast Hwy\, Huntington Beach\, CA 92646\, Huntington Beach
END:VEVENT
BEGIN:VEVENT
DTSTART;TZID=America/Los_Angeles:20250711T100000
DTEND;TZID=America/Los_Angeles:20250711T110000
DTSTAMP:20260423T125510
CREATED:20250701T223323Z
LAST-MODIFIED:20250701T223323Z
UID:10421-1752228000-1752231600@h2oc.org
SUMMARY:Pests That Bug Gardeners - Zoom Encore
DESCRIPTION:Missed the in-person event? Watch a Zoom encore! UC Master Gardeners of Orange County will teach you how to ‘out smart’ the bad insects and attract the beneficial ones.  They will give you tips on prevention\, avoidance\, suppression and responsible pest control with the principles of Integrated Pest Management. Registration required online.
URL:https://h2oc.org/event/pests-that-bug-gardeners-zoom-encore/
LOCATION:Virtual
END:VEVENT
BEGIN:VEVENT
DTSTART;TZID=America/Los_Angeles:20250710T130000
DTEND;TZID=America/Los_Angeles:20250710T140000
DTSTAMP:20260423T125510
CREATED:20250701T222841Z
LAST-MODIFIED:20250701T222841Z
UID:10414-1752152400-1752156000@h2oc.org
SUMMARY:Pests That Bug Gardeners - Mission Viejo
DESCRIPTION:UC Master Gardeners of Orange County will teach you how to ‘out smart’ the bad insects and attract the beneficial ones.  They will give you tips on prevention\, avoidance\, suppression and responsible pest control with the principles of Integrated Pest Management. Registration required online.
URL:https://h2oc.org/event/pests-that-bug-gardeners-mission-viejo/
LOCATION:Norman Murray Sr. Center (24932 Veterans Way Mission Viejo\, CA 92692)\, Mission Viejo
END:VEVENT
BEGIN:VEVENT
DTSTART;TZID=America/Los_Angeles:20250709T090000
DTEND;TZID=America/Los_Angeles:20250709T100000
DTSTAMP:20260423T125510
CREATED:20250701T222459Z
LAST-MODIFIED:20250701T222459Z
UID:10407-1752051600-1752055200@h2oc.org
SUMMARY:California Native Plants - Huntington Beach
DESCRIPTION:UC Master Gardeners of Orange County will show you how to have a garden featuring California Native plants! Not only are these plants better for our waterways\, but they will rival any other location in color\, variety and beauty too. All this while reducing water usage\, chemical fertilization and increasing local wildlife habitat. No registration is required.
URL:https://h2oc.org/event/california-native-plants-huntington-beach/
LOCATION:18041 Golden West St Huntington Beach\, CA 92648\, Huntington Beach
END:VEVENT
BEGIN:VEVENT
DTSTART;TZID=America/Los_Angeles:20250706T080000
DTEND;TZID=America/Los_Angeles:20250706T110000
DTSTAMP:20260423T125510
CREATED:20250701T222130Z
LAST-MODIFIED:20250701T222218Z
UID:10398-1751788800-1751799600@h2oc.org
SUMMARY:Yoga\, Beach Cleanup\, and Lunch & Learn (Plastic Free July)
DESCRIPTION:Join Stand Up to Trash in Dana Point for a day filled with free yoga\, a beach cleanup\, and a free lunch and learn session at Ocean Institute. Stand Up to Trash encourages participants to bring reusable supplies such as bags\, gloves\, and water bottles to reduce additional waste. This event is open to all ages advanced registration is required.
URL:https://h2oc.org/event/yoga-beach-cleanup-and-lunch-learn-plastic-free-july/
LOCATION:34451 Ensenada Pl\, Dana Point\, CA 92629
END:VEVENT
END:VCALENDAR