BEGIN:VCALENDAR
VERSION:2.0
PRODID:-//H2OC Stormwater Program - ECPv6.15.20//NONSGML v1.0//EN
CALSCALE:GREGORIAN
METHOD:PUBLISH
X-WR-CALNAME:H2OC Stormwater Program
X-ORIGINAL-URL:https://h2oc.org
X-WR-CALDESC:Events for H2OC Stormwater Program
REFRESH-INTERVAL;VALUE=DURATION:PT1H
X-Robots-Tag:noindex
X-PUBLISHED-TTL:PT1H
BEGIN:VTIMEZONE
TZID:America/Los_Angeles
BEGIN:DAYLIGHT
TZOFFSETFROM:-0800
TZOFFSETTO:-0700
TZNAME:PDT
DTSTART:20250309T100000
END:DAYLIGHT
BEGIN:STANDARD
TZOFFSETFROM:-0700
TZOFFSETTO:-0800
TZNAME:PST
DTSTART:20251102T090000
END:STANDARD
BEGIN:DAYLIGHT
TZOFFSETFROM:-0800
TZOFFSETTO:-0700
TZNAME:PDT
DTSTART:20260308T100000
END:DAYLIGHT
BEGIN:STANDARD
TZOFFSETFROM:-0700
TZOFFSETTO:-0800
TZNAME:PST
DTSTART:20261101T090000
END:STANDARD
BEGIN:DAYLIGHT
TZOFFSETFROM:-0800
TZOFFSETTO:-0700
TZNAME:PDT
DTSTART:20270314T100000
END:DAYLIGHT
BEGIN:STANDARD
TZOFFSETFROM:-0700
TZOFFSETTO:-0800
TZNAME:PST
DTSTART:20271107T090000
END:STANDARD
END:VTIMEZONE
BEGIN:VEVENT
DTSTART;TZID=America/Los_Angeles:20260411T090000
DTEND;TZID=America/Los_Angeles:20260411T110000
DTSTAMP:20260423T034601
CREATED:20260327T215851Z
LAST-MODIFIED:20260327T215851Z
UID:11377-1775898000-1775905200@h2oc.org
SUMMARY:Huntington State Beach Tower 9 Cleanup
DESCRIPTION:Keep your community clean and prevent pollution. Join Coastkeeper to help protect Huntington Beach’s beautiful waterways! Make sure to bring closed-toed shoes\, comfortable and weather-appropriate clothing\, sun protection\, and your own cleanup equipment. This is a free event and advanced registration online is required.
URL:https://h2oc.org/event/huntington-state-beach-tower-9-cleanup-4/
LOCATION:Huntington Beach Tower 9 (22355 E Pacific Coast Hwy\, Huntington Beach\, CA 92646)
END:VEVENT
BEGIN:VEVENT
DTSTART;TZID=America/Los_Angeles:20260411T090000
DTEND;TZID=America/Los_Angeles:20260411T120000
DTSTAMP:20260423T034601
CREATED:20260327T221049Z
LAST-MODIFIED:20260327T221049Z
UID:11386-1775898000-1775908800@h2oc.org
SUMMARY:Quarterly Bulky Item Drop-Off Day - Jerome Park
DESCRIPTION:The City of Santa Ana Public Works Agency\, in partnership with Republic Services\, invites residents to a free bulky item drop-off event. \nDispose of items like furniture\, mattresses\, and carpets. No appointment needed\, but proof of residency is required. Event ends at noon or when capacity is reached.
URL:https://h2oc.org/event/quarterly-bulky-item-drop-off-day-jerome-park-2/
END:VEVENT
BEGIN:VEVENT
DTSTART;TZID=America/Los_Angeles:20260411T090000
DTEND;TZID=America/Los_Angeles:20260411T130000
DTSTAMP:20260423T034601
CREATED:20260403T172051Z
LAST-MODIFIED:20260403T191039Z
UID:11447-1775898000-1775912400@h2oc.org
SUMMARY:UC Master Gardener Expo Plant Giveaway & Sale
DESCRIPTION:Don’t miss out on the UC Master Gardeners of Orange County Expo Plant Giveaway and Sale! The event includes more than 1\,500 plants for purchase and for free\, gardening discussions\, and a wide array of gardening topics designed to provide research-based sustainable landscape\, pest management\, and gardening guidance. For more information check the poster and/or visit the website link.
URL:https://h2oc.org/event/uc-master-gardener-expo-plant-giveaway-sale/
LOCATION:Norman P. Murray Center (24932 Veterans Way\, Mission Viejo\, CA 92692)
END:VEVENT
BEGIN:VEVENT
DTSTART;TZID=America/Los_Angeles:20260411T090000
DTEND;TZID=America/Los_Angeles:20260426T120000
DTSTAMP:20260423T034601
CREATED:20260327T220655Z
LAST-MODIFIED:20260327T220845Z
UID:11380-1775898000-1777204800@h2oc.org
SUMMARY:Quarterly Bulky Item Drop-Off Day - Koral Park
DESCRIPTION:The City of Santa Ana Public Works Agency\, in partnership with Republic Services\, invites residents to a free bulky item drop-off event. \nDispose of items like furniture\, mattresses\, and carpets. No appointment needed\, but proof of residency is required. Event ends at noon or when capacity is reached.
URL:https://h2oc.org/event/quarterly-bulky-item-drop-off-day-jerome-park/
LOCATION:900 W MacArthur Boulevard\, Santa Ana\, CA 92707
END:VEVENT
BEGIN:VEVENT
DTSTART;TZID=America/Los_Angeles:20260411T100000
DTEND;TZID=America/Los_Angeles:20260411T120000
DTSTAMP:20260423T034601
CREATED:20260327T221508Z
LAST-MODIFIED:20260327T221508Z
UID:11390-1775901600-1775908800@h2oc.org
SUMMARY:Discover Upper Newport Bay Kayak Tour
DESCRIPTION:Join a public group to kayak through the Upper Newport Bay Ecological Reserve and learn about what makes this place unique! Tours are guided by certified volunteer naturalists. As you gently paddle along\, you will have the opportunity to see wetland wildlife while your naturalist guide stops occasionally to talk about the ecology and natural history of the Bay. Only 20 spots available so select your preferred date and sign up online to secure your spot!
URL:https://h2oc.org/event/discover-upper-newport-bay-kayak-tour-6/
LOCATION:Newport Aquatic Center (1 Whitecliffs Dr\, Newport Beach\, CA 92660)
END:VEVENT
BEGIN:VEVENT
DTSTART;TZID=America/Los_Angeles:20260412T080000
DTEND;TZID=America/Los_Angeles:20260412T110000
DTSTAMP:20260423T034601
CREATED:20260327T221825Z
LAST-MODIFIED:20260327T221825Z
UID:11393-1775980800-1775991600@h2oc.org
SUMMARY:Harbor Cleanup - Huntington Harbor
DESCRIPTION:Want to learn about watersheds\, how to collect data for making environmental action decisions\, and help cleanup your environment? Hop into a kayak or stand-up paddleboard with Surfrider at their next Huntington Harbor cleanup! There is a 30 person limit and advanced registration is required.
URL:https://h2oc.org/event/harbor-cleanup-huntington-harbor-6/
LOCATION:4281 Warner Avenue Huntington Beach\, CA 92649.
END:VEVENT
BEGIN:VEVENT
DTSTART;TZID=America/Los_Angeles:20260412T093000
DTEND;TZID=America/Los_Angeles:20260412T130000
DTSTAMP:20260423T034601
CREATED:20260407T204514Z
LAST-MODIFIED:20260407T204729Z
UID:11466-1775986200-1775998800@h2oc.org
SUMMARY:Walk for Clean Water
DESCRIPTION:Thirst Project is a nonprofit organization whose mission is to provide clean water for people with limited access. On April 12th\, Dana Hills High School Key Club is hosting a community Walk For Clean Water to support the Thirst Project initiative with a fundraising goal of $5000. The Walk will start from the Dana Point City Hall and end at Dana Hills High School around 12\, where there will be an additional hour of activities and food for attendees. For more event details\, check out the information on the flyers. \n.
URL:https://h2oc.org/event/walk-for-clean-water/
LOCATION:Dana Point City Hall (33282 Golden Lantern\, Dana Point\, CA 92629)
END:VEVENT
BEGIN:VEVENT
DTSTART;TZID=America/Los_Angeles:20260412T100000
DTEND;TZID=America/Los_Angeles:20260412T120000
DTSTAMP:20260423T034601
CREATED:20260327T222139Z
LAST-MODIFIED:20260327T222139Z
UID:11395-1775988000-1775995200@h2oc.org
SUMMARY:Bolsa Chica Ecological Reserve Free Public Tour
DESCRIPTION:Strengthen your knowledge and appreciation of natural resources near you. Join a Bolsa Chica Land Trust docent on the second and third Sunday of each month for a free guided walking tour of the Bolsa Chica wetlands and mesa. Look for the white canopy and tables at the back of the lot by the footbridge and learn about the history of Bolsa Chica\, its wildlife\, and plant life.
URL:https://h2oc.org/event/bolsa-chica-ecological-reserve-free-public-tour-3/
LOCATION:Bolsa Chica Ecological Reserve- South Parking Lot (18000 CA-1\, Huntington Beach\, CA 92648)
END:VEVENT
BEGIN:VEVENT
DTSTART;TZID=America/Los_Angeles:20260417T090000
DTEND;TZID=America/Los_Angeles:20260417T120000
DTSTAMP:20260423T034601
CREATED:20260327T223005Z
LAST-MODIFIED:20260327T223005Z
UID:11398-1776416400-1776427200@h2oc.org
SUMMARY:Sow & Grow: Volunteer at the Native Plant Nursery
DESCRIPTION:Help Grow Native Plants for Restoration at the Back Bay Science Center. Volunteers assist in seasonal nursery activities such as seed collection and sowing\, processing cuttings\, composting\, and more\, no experience needed! Advanced registration is required.
URL:https://h2oc.org/event/sow-grow-volunteer-at-the-native-plant-nursery-6/
LOCATION:Back Bay Science Center (600 Shellmaker Road\,  Newport Beach\, CA 92660)
END:VEVENT
BEGIN:VEVENT
DTSTART;TZID=America/Los_Angeles:20260417T090000
DTEND;TZID=America/Los_Angeles:20260417T123000
DTSTAMP:20260423T034601
CREATED:20260417T191044Z
LAST-MODIFIED:20260417T191044Z
UID:11655-1776416400-1776429000@h2oc.org
SUMMARY:Gardens with style tour & expo
DESCRIPTION:SMWD’s Gardens with Style Tour will feature homeowners just like you that display climate friendly sustainable landscapes throughout our community. This self-guided tour will give you the opportunity to visit these beautiful landscapes and speak with the homeowners and their landscape designers.
URL:https://h2oc.org/event/gardens-with-style-tour-expo/
LOCATION:26111 Antonio Pkwy\, Rancho Santa Margarita\, CA 92688
END:VEVENT
BEGIN:VEVENT
DTSTART;TZID=America/Los_Angeles:20260418T090000
DTEND;TZID=America/Los_Angeles:20260418T110000
DTSTAMP:20260423T034601
CREATED:20260327T223258Z
LAST-MODIFIED:20260327T223258Z
UID:11400-1776502800-1776510000@h2oc.org
SUMMARY:Huntington State Beach Tower 9 Cleanup
DESCRIPTION:Keep your community clean and prevent pollution. Join Coastkeeper to help protect Huntington Beach’s beautiful waterways! Make sure to bring closed-toed shoes\, comfortable and weather-appropriate clothing\, sun protection\, and your own cleanup equipment. This is a free event and advanced registration online is required.
URL:https://h2oc.org/event/huntington-state-beach-tower-9-cleanup-5/
LOCATION:Huntington Beach Tower 9 (22355 E Pacific Coast Hwy\, Huntington Beach\, CA 92646)
END:VEVENT
BEGIN:VEVENT
DTSTART;TZID=America/Los_Angeles:20260418T090000
DTEND;TZID=America/Los_Angeles:20260418T113000
DTSTAMP:20260423T034601
CREATED:20260327T224115Z
LAST-MODIFIED:20260327T224115Z
UID:11403-1776502800-1776511800@h2oc.org
SUMMARY:Third Saturday Fairview Park Restoration Day
DESCRIPTION:Coastal Corridor Alliance and the City of Costa Mesa invite the community for native gardening at Fairview Park. Every third Saturday volunteers contribute to restoration efforts such as removing invasive plants\, collect\, plant\, and maintain native plants\, remove debris and more. Register on Eventbrite and sign the online liability waiver to participate.
URL:https://h2oc.org/event/third-saturday-fairview-park-restoration-day-2/
LOCATION:Fairview Park (2525 Placentia Avenue\, Costa Mesa\, CA 92626)
END:VEVENT
BEGIN:VEVENT
DTSTART;TZID=America/Los_Angeles:20260418T090000
DTEND;TZID=America/Los_Angeles:20260418T120000
DTSTAMP:20260423T034601
CREATED:20260327T174232Z
LAST-MODIFIED:20260417T172241Z
UID:11297-1776502800-1776513600@h2oc.org
SUMMARY:Shredding and E-Waste Recycling Event
DESCRIPTION:You can keep hazardous waste from polluting our waterways AND declutter your space. The City of Placentia is hosting a free Shredding & E-Waste Recycling Event on Saturday\, April 18th. Placentia residents and businesses are invited to dispose of unwanted electronics and shred confidential documents on-site for free. For more information on parameters around the amount of papers and types of electronics accepted at this event\, visit the website link or contact recycling@placentia.org or (714) 993-8148.
URL:https://h2oc.org/event/shredding-and-e-waste-recycling-event/
LOCATION:Constellation Dr\, Newport Beach\, CA 92660
END:VEVENT
BEGIN:VEVENT
DTSTART;TZID=America/Los_Angeles:20260418T090000
DTEND;TZID=America/Los_Angeles:20260418T120000
DTSTAMP:20260423T034601
CREATED:20260327T180112Z
LAST-MODIFIED:20260327T180112Z
UID:11306-1776502800-1776513600@h2oc.org
SUMMARY:Wetland Restoration at Huntington Beach Wetlands Conservancy
DESCRIPTION:Join OC Habitats every third Saturday of the month at the Huntington Beach Wetlands Conservancy to support wetland restoration! Get your hands dirty removing invasive species\, planting natives\, or picking up trash — all while learning about wetland ecosystems and native plants. For more information and to sign up online\, visit the Eventbrite link.
URL:https://h2oc.org/event/wetland-restoration-at-huntington-beach-wetlands-conservancy/
LOCATION:Huntington Beach Wetlands Conservancy (21900 Pacific Coast Hwy\, Huntington Beach\, CA 92646)
END:VEVENT
BEGIN:VEVENT
DTSTART;TZID=America/Los_Angeles:20260418T090000
DTEND;TZID=America/Los_Angeles:20260418T120000
DTSTAMP:20260423T034601
CREATED:20260327T224551Z
LAST-MODIFIED:20260327T224633Z
UID:11406-1776502800-1776513600@h2oc.org
SUMMARY:Beach Clean-up at Seal Beach
DESCRIPTION:Join Save Our Beach for a beach cleanup in Seal Beach from 9:00 AM to 11:45 AM at 15 1st Street. This free monthly event helps keep our coast clean\, but please bring your ticket as proof of registration.
URL:https://h2oc.org/event/beach-clean-up-at-seal-beach-5/
LOCATION:15 1st St\, Seal Beach\, CA 90740
END:VEVENT
BEGIN:VEVENT
DTSTART;TZID=America/Los_Angeles:20260418T090000
DTEND;TZID=America/Los_Angeles:20260418T120000
DTSTAMP:20260423T034601
CREATED:20260327T225000Z
LAST-MODIFIED:20260327T225000Z
UID:11408-1776502800-1776513600@h2oc.org
SUMMARY:Bolsa Chica Stewards Habitat Restoration Volunteering
DESCRIPTION:The Bolsa Chica Stewards invite the public to join them on the first Sunday and third Saturday of each month for their habitat restoration efforts. Help them care for the new plants\, remove non-native plants\, pick up trash\, and other maintenance tasks to prevent pollution of local waterways. Pre-registration and event sign up is required.
URL:https://h2oc.org/event/bolsa-chica-stewards-habitat-restoration-volunteering-5/
LOCATION:Bolsa Chica Ecological Reserve- North Parking Lot (3842 Warner Ave\, Huntington Beach\, CA 92649)
END:VEVENT
BEGIN:VEVENT
DTSTART;TZID=America/Los_Angeles:20260418T090000
DTEND;TZID=America/Los_Angeles:20260418T130000
DTSTAMP:20260423T034601
CREATED:20260327T183518Z
LAST-MODIFIED:20260327T183518Z
UID:11322-1776502800-1776517200@h2oc.org
SUMMARY:City of San Clemente Earth Day: Beach Cleanup & Educational Fair
DESCRIPTION:The first 100 to pre-register for the Beach Clean Up will receive a free burrito from Fisherman’s!
URL:https://h2oc.org/event/city-of-san-clemente-earth-day-beach-cleanup-educational-fair/
LOCATION:622 Avenida Del Mar\, San Clemente\, CA 92672
END:VEVENT
BEGIN:VEVENT
DTSTART;TZID=America/Los_Angeles:20260418T100000
DTEND;TZID=America/Los_Angeles:20260418T120000
DTSTAMP:20260423T034601
CREATED:20260327T225330Z
LAST-MODIFIED:20260327T225330Z
UID:11411-1776506400-1776513600@h2oc.org
SUMMARY:Discover Upper Newport Bay Kayak Tour
DESCRIPTION:Join a public group to kayak through the Upper Newport Bay Ecological Reserve and learn about what makes this place unique! Tours are guided by certified volunteer naturalists. As you gently paddle along\, you will have the opportunity to see wetland wildlife while your naturalist guide stops occasionally to talk about the ecology/natural history of the Bay. Only 20 spots available so select your preferred date and sign up online to secure your spot!
URL:https://h2oc.org/event/discover-upper-newport-bay-kayak-tour-7/
LOCATION:Newport Aquatic Center (1 Whitecliffs Dr\, Newport Beach\, CA 92660)
END:VEVENT
BEGIN:VEVENT
DTSTART;TZID=America/Los_Angeles:20260418T100000
DTEND;TZID=America/Los_Angeles:20260418T160000
DTSTAMP:20260423T034601
CREATED:20260327T180947Z
LAST-MODIFIED:20260327T181057Z
UID:11316-1776506400-1776528000@h2oc.org
SUMMARY:Earth Day at the Bay
DESCRIPTION:This FREE\, family-friendly event features environmental-themed exhibits from community partners and local artists. Booths will feature activities that include arts and crafts\, science discovery\, and environmental education. There will be live music throughout the day\, as well as a scavenger hunt complete with prizes. Be sure to enter the opportunity drawing as well! No need to register online and donations accepted.
URL:https://h2oc.org/event/earth-day-at-the-bay/
LOCATION:Peter & Mary Murth Interpretive Center (2301 University Dr\, Newport Beach\, CA 92660)
END:VEVENT
BEGIN:VEVENT
DTSTART;TZID=America/Los_Angeles:20260418T110000
DTEND;TZID=America/Los_Angeles:20260418T140000
DTSTAMP:20260423T034601
CREATED:20260327T182945Z
LAST-MODIFIED:20260327T182945Z
UID:11319-1776510000-1776520800@h2oc.org
SUMMARY:City of Irvine Earth Day Event
DESCRIPTION:Visit Quail Hill Community Center to enjoy guided hikes\, a composting demonstration\, interactive activities\, and presentations offered in collaboration with partner agencies. Guided hikes\, led by Irvine Ranch Conservancy\, will be offered at 11:30 a.m. and 1:30 p.m. Registration is required on-site\, with limited space available. The composting demonstration will begin at noon.
URL:https://h2oc.org/event/city-of-irvine-earth-day-event/
LOCATION:Quail Hill Community Center (39 Shady Canyon Dr\, Irvine\, CA 92603)
END:VEVENT
BEGIN:VEVENT
DTSTART;TZID=America/Los_Angeles:20260422T160000
DTEND;TZID=America/Los_Angeles:20260422T170000
DTSTAMP:20260423T034601
CREATED:20260327T230346Z
LAST-MODIFIED:20260327T230346Z
UID:11421-1776873600-1776877200@h2oc.org
SUMMARY:Earth Day Beach Clean-Up Event at Main Beach
DESCRIPTION:Celebrate Earth Day by doing your part at Main Beach with Laguna Ocean Foundation! Grab a bucket help keep the local community free of trash. Participation requires a waiver to be signed by each individual.
URL:https://h2oc.org/event/earth-day-beach-clean-up-event-at-main-beach/
LOCATION:Broadway St and Pacific Coast Highway\, Laguna Beach\, Ca 92651
END:VEVENT
BEGIN:VEVENT
DTSTART;TZID=America/Los_Angeles:20260422T173000
DTEND;TZID=America/Los_Angeles:20260422T183000
DTSTAMP:20260423T034601
CREATED:20260403T171344Z
LAST-MODIFIED:20260403T182046Z
UID:11443-1776879000-1776882600@h2oc.org
SUMMARY:DIY Eco-Friendly Planting Pots
DESCRIPTION:Celebrate Earth Day by making biodegradable pots and planting seedlings. Participants will learn how to reduce waste by reusing items they have on hand and bring home a new plant! For more information check the poster and/or visit the website link. \n\n\n\n\n\n\n\n\n\n 
URL:https://h2oc.org/event/diy-eco-friendly-planting-pots/
LOCATION:La Palma Library (7842 Walker St. La Palma\, CA 90623)
END:VEVENT
BEGIN:VEVENT
DTSTART;TZID=America/Los_Angeles:20260425T080000
DTEND;TZID=America/Los_Angeles:20260425T120000
DTSTAMP:20260423T034601
CREATED:20260327T184145Z
LAST-MODIFIED:20260327T184145Z
UID:11325-1777104000-1777118400@h2oc.org
SUMMARY:Earth Day/Arbor Day Celebration
DESCRIPTION:Honor our local animals\, plants\, and waterways at City of Mission Viejo’s annual Earth Day and Arbor Day Celebration. Volunteers can help plant trees and shrubs and partake in earth-friendly activities/exhibits with tips on pollution prevention\, recycling and more. Lunch and ice cream will be provided for volunteers while supplies last and a complimentary golf cart shuttle service will be provided between parking areas and the event location.
URL:https://h2oc.org/event/earth-day-arbor-day-celebration-2/
LOCATION:Oso Creek Trail – North of Jeronimo Road
END:VEVENT
BEGIN:VEVENT
DTSTART;TZID=America/Los_Angeles:20260425T080000
DTEND;TZID=America/Los_Angeles:20260425T120000
DTSTAMP:20260423T034601
CREATED:20260327T184503Z
LAST-MODIFIED:20260327T184503Z
UID:11330-1777104000-1777118400@h2oc.org
SUMMARY:Free E-Waste Recycling and Paper Shredding Event
DESCRIPTION:Participate in Spring cleaning by keeping E-waste out of our waterways. The City of Buena Park and EDCO are hosting a great opportunity to safely dispose of old electronics and paper documents. Residents can also pick up free mulch and compost while supplies last. This is a self-serve\, self-loading service\, so bring your own cans/bags and shovel. For more information on disposal limits and accepted items\, please visit the website.
URL:https://h2oc.org/event/free-e-waste-recycling-and-paper-shredding-event/
LOCATION:Entertainment Corridor Parking Lot (7720 Western Ave.\, Buena Park)
END:VEVENT
BEGIN:VEVENT
DTSTART;TZID=America/Los_Angeles:20260425T090000
DTEND;TZID=America/Los_Angeles:20260425T110000
DTSTAMP:20260423T034601
CREATED:20260327T230707Z
LAST-MODIFIED:20260327T230707Z
UID:11425-1777107600-1777114800@h2oc.org
SUMMARY:Santa Ana River Cleanup
DESCRIPTION:Rid trash from the tall grass and weeds at this month’s Santa Ana River Cleanup. The Santa Ana River has many tributaries that feed into it before it meets the ocean\, you can do your part to prevent pollution on a local level. Must wear closed toed shoes and pants. Sign up online for the exact address.
URL:https://h2oc.org/event/santa-ana-river-cleanup-2/
LOCATION:Huntington Beach\, CA 92646 (sign up to see exact location)
END:VEVENT
BEGIN:VEVENT
DTSTART;TZID=America/Los_Angeles:20260425T090000
DTEND;TZID=America/Los_Angeles:20260425T113000
DTSTAMP:20260423T034601
CREATED:20260327T231022Z
LAST-MODIFIED:20260327T231042Z
UID:11427-1777107600-1777116600@h2oc.org
SUMMARY:Fourth Saturday Beach & River Mouth Cleanup
DESCRIPTION:Join the mission to protect our underwater pals\, keep the wildlife safe\, and stop trash in its tracks before it hits the waves with Coastal Corridor Alliance. Every fourth Saturday meet at Newport Lifeguard Tower 74 to pick up trash and help keep our waterways and community clean. Register on Eventbrite and sign the online liability waiver to participate.
URL:https://h2oc.org/event/fourth-saturday-beach-river-mouth-cleanup-2/
LOCATION:7004 Seashore Dr\, Newport Beach\, CA 92663
END:VEVENT
BEGIN:VEVENT
DTSTART;TZID=America/Los_Angeles:20260425T090000
DTEND;TZID=America/Los_Angeles:20260425T120000
DTSTAMP:20260423T034601
CREATED:20260407T202215Z
LAST-MODIFIED:20260407T202244Z
UID:11472-1777107600-1777118400@h2oc.org
SUMMARY:Earth Day Cleanup Event - Huntington City Beach
DESCRIPTION:Join like-minded community members for the opportunity to help keep your local beaches and parks beautiful and clean at the City of Huntington Beach’s Earth Day Clean up Events. Choose between 2 locations: Huntington City Beach and Sully Miller Lake. Bring your own bucket and reusable water bottle and the city will provide trash bags and gloves. To increase your impact\, use public transportation\, walk\, bike\, or carpool to the cleanup!
URL:https://h2oc.org/event/earth-day-cleanup-event-huntington-city-beach/
LOCATION:21579 Pacific Coast Hwy\, Huntington Beach\, CA 92648
END:VEVENT
BEGIN:VEVENT
DTSTART;TZID=America/Los_Angeles:20260425T090000
DTEND;TZID=America/Los_Angeles:20260506T120000
DTSTAMP:20260423T034601
CREATED:20260407T202759Z
LAST-MODIFIED:20260407T202759Z
UID:11477-1777107600-1778068800@h2oc.org
SUMMARY:Earth Day Cleanup Event -Sully Miller Lake
DESCRIPTION:Join like-minded community members for the opportunity to help keep your local beaches and parks beautiful and clean at the City of Huntington Beach’s Earth Day Clean up Events. Choose between 2 locations: Huntington City Beach and Sully Miller Lake. Bring your own bucket and reusable water bottle and the city will provide trash bags and gloves. To increase your impact\, use public transportation\, walk\, bike\, or carpool to the cleanup!
URL:https://h2oc.org/event/earth-day-cleanup-event-sully-miller-lake/
LOCATION:18121 Gothard St\, Huntington Beach\, CA 92648
END:VEVENT
BEGIN:VEVENT
DTSTART;TZID=America/Los_Angeles:20260425T100000
DTEND;TZID=America/Los_Angeles:20260425T120000
DTSTAMP:20260423T034601
CREATED:20260330T161212Z
LAST-MODIFIED:20260330T161212Z
UID:11432-1777111200-1777118400@h2oc.org
SUMMARY:Discover Upper Newport Bay Kayak Tour
DESCRIPTION:Join a public group to kayak through the Upper Newport Bay Ecological Reserve and learn about what makes this place unique! Tours are guided by certified volunteer naturalists. As you gently paddle along\, you will have the opportunity to see wetland wildlife while your naturalist guide stops occasionally to talk about the ecology/natural history of the Bay. Only 20 spots available so select your preferred date and sign up online to secure your spot!
URL:https://h2oc.org/event/discover-upper-newport-bay-kayak-tour-8/
LOCATION:Newport Aquatic Center (1 Whitecliffs Dr\, Newport Beach\, CA 92660)
END:VEVENT
BEGIN:VEVENT
DTSTART;TZID=America/Los_Angeles:20260425T150000
DTEND;TZID=America/Los_Angeles:20260425T170000
DTSTAMP:20260423T034601
CREATED:20260330T161858Z
LAST-MODIFIED:20260330T161951Z
UID:11434-1777129200-1777136400@h2oc.org
SUMMARY:Keep it Wild - Laguna Coast
DESCRIPTION:Learn and work together towards habitat restoration stewardship in Laguna Coast Wilderness Park. Native plants are nature’s filtration system to slow stormwater pollution. As a volunteer\, you will collect seeds\, remove non-native plants\, plant native ones. Gloves and tools will be provided. Participants should bring water\, closed-toe shoes\, layered clothing and sun protection. Advance registration required.
URL:https://h2oc.org/event/keep-it-wild-laguna-coast-2/
LOCATION:Nix Nature Center\, Laguna Coast Wilderness Park (18751 Laguna Canyon Road\, Laguna Beach 92651)
END:VEVENT
END:VCALENDAR