BEGIN:VCALENDAR
VERSION:2.0
PRODID:-//H2OC Stormwater Program - ECPv6.15.20//NONSGML v1.0//EN
CALSCALE:GREGORIAN
METHOD:PUBLISH
X-ORIGINAL-URL:https://h2oc.org
X-WR-CALDESC:Events for H2OC Stormwater Program
REFRESH-INTERVAL;VALUE=DURATION:PT1H
X-Robots-Tag:noindex
X-PUBLISHED-TTL:PT1H
BEGIN:VTIMEZONE
TZID:America/Los_Angeles
BEGIN:DAYLIGHT
TZOFFSETFROM:-0800
TZOFFSETTO:-0700
TZNAME:PDT
DTSTART:20240310T100000
END:DAYLIGHT
BEGIN:STANDARD
TZOFFSETFROM:-0700
TZOFFSETTO:-0800
TZNAME:PST
DTSTART:20241103T090000
END:STANDARD
BEGIN:DAYLIGHT
TZOFFSETFROM:-0800
TZOFFSETTO:-0700
TZNAME:PDT
DTSTART:20250309T100000
END:DAYLIGHT
BEGIN:STANDARD
TZOFFSETFROM:-0700
TZOFFSETTO:-0800
TZNAME:PST
DTSTART:20251102T090000
END:STANDARD
BEGIN:DAYLIGHT
TZOFFSETFROM:-0800
TZOFFSETTO:-0700
TZNAME:PDT
DTSTART:20260308T100000
END:DAYLIGHT
BEGIN:STANDARD
TZOFFSETFROM:-0700
TZOFFSETTO:-0800
TZNAME:PST
DTSTART:20261101T090000
END:STANDARD
END:VTIMEZONE
BEGIN:VEVENT
DTSTART;TZID=America/Los_Angeles:20250906T080000
DTEND;TZID=America/Los_Angeles:20250906T100000
DTSTAMP:20260423T095030
CREATED:20250902T160122Z
LAST-MODIFIED:20250902T160122Z
UID:10561-1757145600-1757152800@h2oc.org
SUMMARY:Beach Cleanup - San Clemente Pier
DESCRIPTION:Help prevent litter from harming local water resources at San Clemente Pier with Surfrider. Bring your reusable water bottle\, sunscreen\, and work/garden gloves. Participants will have everything provided to do a beach clean and data collection. Advanced sign up is required. Sign up online for the exact address.
URL:https://h2oc.org/event/beach-cleanup-san-clemente-pier-4/
LOCATION:622 Avenida Del Mar\, San Clemente\, CA 92672
END:VEVENT
BEGIN:VEVENT
DTSTART;TZID=America/Los_Angeles:20250906T180000
DTEND;TZID=America/Los_Angeles:20250906T193000
DTSTAMP:20260423T095030
CREATED:20250902T160714Z
LAST-MODIFIED:20250902T160714Z
UID:10566-1757181600-1757187000@h2oc.org
SUMMARY:Native Plant Restoration at Irby Park
DESCRIPTION:Join Surfrider at Irby Park to help restore the native landscape! Activities include removing invasive weeds\, planting native vegetation\, and working on other important projects. This is a free event and advanced registration is required. Sign up online for the exact address.
URL:https://h2oc.org/event/native-plant-restoration-at-irby-park-14/
LOCATION:Irby Park (6770 Ruth Dr. Huntington Beach\, CA)\, Huntington Beach
END:VEVENT
BEGIN:VEVENT
DTSTART;TZID=America/Los_Angeles:20250907T081500
DTEND;TZID=America/Los_Angeles:20250907T110000
DTSTAMP:20260423T095030
CREATED:20250902T165124Z
LAST-MODIFIED:20250902T165124Z
UID:10570-1757232900-1757242800@h2oc.org
SUMMARY:Harbor Cleanup - Huntington Harbor
DESCRIPTION:Want to learn about watersheds\, how to collect data for making environmental action decisions\, and help cleanup your environment? Hop into a kayak or stand-up paddleboard with Surfrider at their next Huntington Harbor cleanup! There is a 30 person limit and advanced registration is required.
URL:https://h2oc.org/event/harbor-cleanup-huntington-harbor-2/
LOCATION:4281 Warner Avenue Huntington Beach\, CA 92649.
END:VEVENT
BEGIN:VEVENT
DTSTART;TZID=America/Los_Angeles:20250920T080000
DTEND;TZID=America/Los_Angeles:20250920T170000
DTSTAMP:20260423T095030
CREATED:20250902T170321Z
LAST-MODIFIED:20250902T170321Z
UID:10573-1758355200-1758387600@h2oc.org
SUMMARY:Coastal and Inner Coastal Cleanup Day - Orange County Cleanups List
DESCRIPTION:Community members of all ages across Orange County are needed to help keep our local waterways clean! Volunteers should wear appropriate attire\, including closed-toe shoes or hiking boots and bring their reusable water bottles\, own gardening/work gloves for the Annual Coast Cleanup Day. Some events require advanced registration\, check the event closest to you for more information!
URL:https://h2oc.org/event/coastal-and-inner-coastal-cleanup-day-orange-county-cleanups-list/
LOCATION:Various cities across Orange County
END:VEVENT
BEGIN:VEVENT
DTSTART;TZID=America/Los_Angeles:20250923T090000
DTEND;TZID=America/Los_Angeles:20250923T160000
DTSTAMP:20260423T095030
CREATED:20250919T154249Z
LAST-MODIFIED:20250919T154249Z
UID:10635-1758618000-1758643200@h2oc.org
SUMMARY:Dual Water Certification Program
DESCRIPTION:The California Landscape Contractors Association and Metropolitan Water District of Southern California now offer a one-of-a-kind certification and educational opportunity for landscape professionals in Southern California. These workshops will offer CEUs for your current certifications and provide you with a participation certificate. The Dual Water Certification classes are free and available only to those within the Metropolitan Water District’s service area.
URL:https://h2oc.org/event/dual-water-certification-program/
LOCATION:Register for the location
END:VEVENT
BEGIN:VEVENT
DTSTART;TZID=America/Los_Angeles:20250925T180000
DTEND;TZID=America/Los_Angeles:20250925T193000
DTSTAMP:20260423T095030
CREATED:20250902T171006Z
LAST-MODIFIED:20250902T171213Z
UID:10580-1758823200-1758828600@h2oc.org
SUMMARY:Lawn Transformation on a Budget
DESCRIPTION:Lawn transportation can be overwhelming\, but this webinar can help. Learn about the expenses involved\, prioritizing the choices\, and minimizing costs of replacing turf. Advanced registration is required.
URL:https://h2oc.org/event/lawn-transformation-on-a-budget/
LOCATION:Virtual
END:VEVENT
BEGIN:VEVENT
DTSTART;TZID=America/Los_Angeles:20250928T080000
DTEND;TZID=America/Los_Angeles:20250928T093000
DTSTAMP:20260423T095030
CREATED:20250919T153708Z
LAST-MODIFIED:20250919T153708Z
UID:10583-1759046400-1759051800@h2oc.org
SUMMARY:Surf + Beach Cleanup - Newport Beach Pier's Farmer's Market
DESCRIPTION:Protect our waterways while you support your local community. Join Surfrider at the Newport Pier’s farmer’s market to learn about their beach cleanup and rid trash from our shores. Sign up online for the exact address.
URL:https://h2oc.org/event/surf-beach-cleanup-newport-beach-piers-farmers-market-5/
LOCATION:1 Newport Pier\, Newport Beach\, CA 92663
END:VEVENT
BEGIN:VEVENT
DTSTART;TZID=America/Los_Angeles:20250930T090000
DTEND;TZID=America/Los_Angeles:20250930T160000
DTSTAMP:20260423T095030
CREATED:20250919T160208Z
LAST-MODIFIED:20250919T160208Z
UID:10642-1759222800-1759248000@h2oc.org
SUMMARY:Dual Water Certification Program
DESCRIPTION:The California Landscape Contractors Association and Metropolitan Water District of Southern California now offer a one-of-a-kind certification and educational opportunity for landscape professionals in Southern California. These workshops will offer CEUs for your current certifications and provide you with a participation certificate. The Dual Water Certification classes are free and available only to those within the Metropolitan Water District’s service area.
URL:https://h2oc.org/event/dual-water-certification-program-2/
LOCATION:Register for the location
END:VEVENT
BEGIN:VEVENT
DTSTART;TZID=America/Los_Angeles:20251004T080000
DTEND;TZID=America/Los_Angeles:20251004T100000
DTSTAMP:20260423T095030
CREATED:20250930T221320Z
LAST-MODIFIED:20250930T221410Z
UID:10652-1759564800-1759572000@h2oc.org
SUMMARY:Beach Cleanup - San Clemente Pier
DESCRIPTION:Help prevent litter from harming local water resources at San Clemente Pier with Surfrider. Bring your reusable water bottle\, sunscreen\, and work/garden gloves. Participants will have everything provided to do a beach clean and data collection. Advanced sign up is required. Sign up online for the exact address.
URL:https://h2oc.org/event/beach-cleanup-san-clemente-pier-5/
LOCATION:622 Avenida Del Mar\, San Clemente\, CA 92672
END:VEVENT
BEGIN:VEVENT
DTSTART;TZID=America/Los_Angeles:20251004T090000
DTEND;TZID=America/Los_Angeles:20251004T110000
DTSTAMP:20260423T095030
CREATED:20250930T221858Z
LAST-MODIFIED:20250930T221858Z
UID:10655-1759568400-1759575600@h2oc.org
SUMMARY:Santa Ana river
DESCRIPTION:Rid trash from the tall grass and weeds at this month’s Santa Ana River Cleanup. The Santa Ana River has many tributaries that feed into it before it meets the ocean\, you can do your part to prevent pollution on a local level. Must wear closed toed shoes and pants. Sign up online for the exact address.
URL:https://h2oc.org/event/santa-ana-river/
LOCATION:Huntington Beach\, CA 92646 (sign up to see exact location)
END:VEVENT
BEGIN:VEVENT
DTSTART;TZID=America/Los_Angeles:20251004T090000
DTEND;TZID=America/Los_Angeles:20251004T110000
DTSTAMP:20260423T095030
CREATED:20250930T222141Z
LAST-MODIFIED:20250930T222141Z
UID:10662-1759568400-1759575600@h2oc.org
SUMMARY:Native Plant Restoration at Irby Park
DESCRIPTION:Join Surfrider at Irby Park to help restore the native landscape! Activities include removing invasive weeds\, planting native vegetation\, and working on other important projects. This is a free event and advanced registration is required. Sign up online for the exact address.
URL:https://h2oc.org/event/native-plant-restoration-at-irby-park-15/
LOCATION:Irby Park (6770 Ruth Dr. Huntington Beach\, CA)\, Huntington Beach
END:VEVENT
BEGIN:VEVENT
DTSTART;TZID=America/Los_Angeles:20251004T090000
DTEND;TZID=America/Los_Angeles:20251004T110000
DTSTAMP:20260423T095030
CREATED:20250930T234226Z
LAST-MODIFIED:20250930T234226Z
UID:10690-1759568400-1759575600@h2oc.org
SUMMARY:Monarch Nature Trail - Huntington Beach
DESCRIPTION:Volunteering at the Monarch Nature Trail is a terrific way to learn about Orange County’s butterfly population as well as the native plants they depend on for survival. We have volunteer tasks for all ages including watering\, seed collection\, planting\, mulching\, weeding\, and more. Be sure to wear closed-toe shoes\, hat\, and sunscreen\, and bring drinking water. No registration required.
URL:https://h2oc.org/event/monarch-nature-trail-huntington-beach/
LOCATION:14341 Spa Drive Huntington Beach\, CA
END:VEVENT
BEGIN:VEVENT
DTSTART;TZID=America/Los_Angeles:20251007T090000
DTEND;TZID=America/Los_Angeles:20251007T160000
DTSTAMP:20260423T095030
CREATED:20250919T160621Z
LAST-MODIFIED:20250919T160621Z
UID:10645-1759827600-1759852800@h2oc.org
SUMMARY:Dual Water Certification Program
DESCRIPTION:The California Landscape Contractors Association and Metropolitan Water District of Southern California now offer a one-of-a-kind certification and educational opportunity for landscape professionals in Southern California. These workshops will offer CEUs for your current certifications and provide you with a participation certificate. The Dual Water Certification classes are free and available only to those within the Metropolitan Water District’s service area.
URL:https://h2oc.org/event/dual-water-certification-program-3/
LOCATION:Register for the location
END:VEVENT
BEGIN:VEVENT
DTSTART;TZID=America/Los_Angeles:20251008T090000
DTEND;TZID=America/Los_Angeles:20251008T100000
DTSTAMP:20260423T095030
CREATED:20250930T234445Z
LAST-MODIFIED:20250930T234517Z
UID:10694-1759914000-1759917600@h2oc.org
SUMMARY:Composting
DESCRIPTION:Nature\, as it recycles by decompisition\, provides us with garden gold! UC Master Gardeners of Orange County will teach you why it’s important to recycle organic waste\, about the right balance of greens\, browns\, air\, and water\, and how soon you can expect your first batch. Using compost can reduce water usage and protect our waterways too. No registration required.
URL:https://h2oc.org/event/composting/
LOCATION:Huntington Beach Senior Center at Central Park 18041 Golden West. St. Huntington Beach. CA
END:VEVENT
BEGIN:VEVENT
DTSTART;TZID=America/Los_Angeles:20251011T080000
DTEND;TZID=America/Los_Angeles:20251011T120000
DTSTAMP:20260423T095030
CREATED:20250930T222441Z
LAST-MODIFIED:20250930T222900Z
UID:10664-1760169600-1760184000@h2oc.org
SUMMARY:E-Waste Disposal & Document Shredding
DESCRIPTION:Take this opportunity to dispose of electronic waste and prevent identity theft safely at this City of Rancho Santa Margarita and CR&R Environmental Services event. For more information\, call Public Works at (949) 635-1800 x650 or email ahowhannesian@cityofrsm.org.
URL:https://h2oc.org/event/e-waste-disposal-document-shredding/
LOCATION:29977 Avenida De Las Banderas\, 29977 Avenida De Las Banderas\, Rancho Santa Margarita\, California
END:VEVENT
BEGIN:VEVENT
DTSTART;TZID=America/Los_Angeles:20251016T180000
DTEND;TZID=America/Los_Angeles:20251016T193000
DTSTAMP:20260423T095030
CREATED:20250930T223616Z
LAST-MODIFIED:20250930T223616Z
UID:10670-1760637600-1760643000@h2oc.org
SUMMARY: Drip Irrigation Fundamentals
DESCRIPTION:In this webinar you will learn about soil moisture balance\, key components of a properly installed drip system\, typical problems with drip irrig ation\, and how to avoid them\, and developing a successful maintenance practice. This class is free\, but advanced registration is required.
URL:https://h2oc.org/event/drip-irrigation-fundamentals-2/
LOCATION:Virtual
END:VEVENT
BEGIN:VEVENT
DTSTART;TZID=America/Los_Angeles:20251018T090000
DTEND;TZID=America/Los_Angeles:20251018T110000
DTSTAMP:20260423T095030
CREATED:20250930T224310Z
LAST-MODIFIED:20250930T224310Z
UID:10672-1760778000-1760785200@h2oc.org
SUMMARY:Native Plant Restoration  at River's End Park in Seal Beach
DESCRIPTION:At this free event\, you will get the opportunity to remove invasive weeds while enjoying the beauty of River’s End Park! Gloves and limited tools will be supplied. Please bring your own if you have them! Sign up for the exact address.
URL:https://h2oc.org/event/native-plant-restoration-at-rivers-end-park-in-seal-beach-4/
LOCATION:River’s End Park Seal Beach\, CA ( 15 1st St\, Seal Beach\, CA 90740)\, Seal Beach
END:VEVENT
BEGIN:VEVENT
DTSTART;TZID=America/Los_Angeles:20251019T080000
DTEND;TZID=America/Los_Angeles:20251019T100000
DTSTAMP:20260423T095030
CREATED:20250930T224824Z
LAST-MODIFIED:20250930T224824Z
UID:10675-1760860800-1760868000@h2oc.org
SUMMARY:Surf + Beach Cleanup - Newport Beach Pier's Farmer's Market
DESCRIPTION:Protect our waterways while you support your local community. Join Surfrider at the Newport Pier’s farmer’s market to learn about their beach cleanup and rid trash from our shores. Sign up online for the exact address.
URL:https://h2oc.org/event/surf-beach-cleanup-newport-beach-piers-farmers-market-6/
LOCATION:1 Newport Pier\, Newport Beach\, CA 92663
END:VEVENT
BEGIN:VEVENT
DTSTART;TZID=America/Los_Angeles:20251019T080000
DTEND;TZID=America/Los_Angeles:20251019T110000
DTSTAMP:20260423T095030
CREATED:20250930T225310Z
LAST-MODIFIED:20250930T225354Z
UID:10678-1760860800-1760871600@h2oc.org
SUMMARY:Yoga\, Beach Cleanup\, and Lunch & Learn (Trashure Hunt- Coastal Cleanup Day)
DESCRIPTION:Join Stand Up to Trash in Dana Point for a day filled with free yoga\, a beach cleanup\, and a free lunch and learn session at Ocean Institute. Stand Up to Trash encourages participants to bring reusable supplies such as bags\, gloves\, and water bottles to reduce additional waste. This event is open to all ages advanced registration is required.
URL:https://h2oc.org/event/yoga-beach-cleanup-and-lunch-learn-trashure-hunt-coastal-cleanup-day/
LOCATION:34451 Ensenada Pl\, Dana Point\, CA 92629
END:VEVENT
BEGIN:VEVENT
DTSTART;TZID=America/Los_Angeles:20251019T080000
DTEND;TZID=America/Los_Angeles:20251019T110000
DTSTAMP:20260423T095030
CREATED:20250930T234749Z
LAST-MODIFIED:20250930T234749Z
UID:10699-1760860800-1760871600@h2oc.org
SUMMARY:Yoga\, Beach Cleanup\, and Lunch & Learn (Trashure Hunt- Coastal Cleanup Day)
DESCRIPTION:Join Stand Up to Trash in Dana Point for a day filled with free yoga\, a beach cleanup\, and a free lunch and learn session at Ocean Institute. Stand Up to Trash encourages participants to bring reusable supplies such as bags\, gloves\, and water bottles to reduce additional waste. This event is open to all ages advanced registration is required.
URL:https://h2oc.org/event/yoga-beach-cleanup-and-lunch-learn-trashure-hunt-coastal-cleanup-day-2/
LOCATION:34451 Ensenada Pl\, Dana Point\, CA 92629
END:VEVENT
BEGIN:VEVENT
DTSTART;TZID=America/Los_Angeles:20251021T180000
DTEND;TZID=America/Los_Angeles:20251021T190000
DTSTAMP:20260423T095030
CREATED:20250930T230814Z
LAST-MODIFIED:20250930T230814Z
UID:10681-1761069600-1761073200@h2oc.org
SUMMARY:Weed & Pest Management
DESCRIPTION:Manage weeds and pests while protecting OC’s creeks\, rivers\, and ocean. Attend this webinar to learn about using an integrated pest management program\, preventing pest problems\, managing weeds and regrowth without chemicals\, and non-toxic solutions for pest control. This class is free\, but registration is required.
URL:https://h2oc.org/event/weed-pest-management/
LOCATION:Virtual
END:VEVENT
BEGIN:VEVENT
DTSTART;TZID=America/Los_Angeles:20251026T080000
DTEND;TZID=America/Los_Angeles:20251026T120000
DTSTAMP:20260423T095030
CREATED:20250930T232904Z
LAST-MODIFIED:20250930T233315Z
UID:10683-1761465600-1761480000@h2oc.org
SUMMARY:Beach Cleanup -San Gabriel River Jetty
DESCRIPTION:Search the beach\, shoreline\, and parking lot for litter at Surfrider’s San Gabriel River Jetty cleanup. Help clean the shores and collect data to use for making environmental action decisions. Sign up online for the exact address.
URL:https://h2oc.org/event/beach-cleanup-san-gabriel-river-jetty-2/
LOCATION:15 1st St\, Seal Beach\, CA 90740
END:VEVENT
BEGIN:VEVENT
DTSTART;TZID=America/Los_Angeles:20251101T080000
DTEND;TZID=America/Los_Angeles:20251101T120000
DTSTAMP:20260423T095030
CREATED:20251030T172041Z
LAST-MODIFIED:20251030T205124Z
UID:10739-1761984000-1761998400@h2oc.org
SUMMARY:Rebate Help Day at The Home Depot
DESCRIPTION:IRWD’s Shed Show Road Show is coming to your neighborhood! Chat with landscape expert Juan Garcia about water-wise yard tips and get help applying for a Smart Sprinkler Controller Rebate up to $255 for qualifying residential customers.
URL:https://h2oc.org/event/rebate-help-day-at-the-home-depot/
LOCATION:The Home Depot: 2001 Lake Forest Drive\, Lake Forest
END:VEVENT
BEGIN:VEVENT
DTSTART;TZID=America/Los_Angeles:20251101T094500
DTEND;TZID=America/Los_Angeles:20251101T120000
DTSTAMP:20260423T095030
CREATED:20251030T192933Z
LAST-MODIFIED:20251030T193055Z
UID:10808-1761990300-1761998400@h2oc.org
SUMMARY:Zero Trash Initiative
DESCRIPTION:Volunteering at the Monarch Nature Trail is a terrific way to learn about Orange County’s butterfly population as well as the native plants they depend on for survival. We have volunteer tasks for all ages including watering\, seed collection\, planting\, mulching\, weeding\, and more. Be sure to wear closed-toe shoes\, hat\, and sunscreen\, and bring drinking water. No registration required.
URL:https://h2oc.org/event/zero-trash-initiative/
LOCATION:30632 Santa Margarita Parkway Rancho Santa Margarita\, CA 92688
END:VEVENT
BEGIN:VEVENT
DTSTART;TZID=America/Los_Angeles:20251101T100000
DTEND;TZID=America/Los_Angeles:20251101T140000
DTSTAMP:20260423T095030
CREATED:20251030T172406Z
LAST-MODIFIED:20251030T172406Z
UID:10744-1761991200-1762005600@h2oc.org
SUMMARY:Pumpkins with Purpose
DESCRIPTION:Join Discovery Cube OC on Saturday\, November 1\, from 10 a.m. to 2 p.m. for the Pumpkins with Purpose event. Drop off your Halloween pumpkin for composting and receive a free child admission coupon with the purchase of an adult ticket. Waste and reycling assistance will be there for any questions and recieve a treat for helping your pumpkin gain a new life!
URL:https://h2oc.org/event/pumpkins-with-purpose/
LOCATION:Discovery Cube:  2525 N. Main Street\, Santa Ana\, CA 92705
END:VEVENT
BEGIN:VEVENT
DTSTART;TZID=America/Los_Angeles:20251105T110000
DTEND;TZID=America/Los_Angeles:20251105T120000
DTSTAMP:20260423T095030
CREATED:20251030T173155Z
LAST-MODIFIED:20251030T173234Z
UID:10749-1762340400-1762344000@h2oc.org
SUMMARY:Weeds\, Wildlands\, & Wildfires
DESCRIPTION:Learn how invasive plants impact California’s landscapes and waterways\, and what’s being done to manage them. Join invasive species expert Chris McDonald for a free webinar on the first Wednesday of the month\, 11 AM–noon\, as part of UC IPM’s Invasive Species Mini-Series. Registration is required with recordings available on YouTube.
URL:https://h2oc.org/event/weeds-wildlands-wildfires/
LOCATION:Virtual
END:VEVENT
BEGIN:VEVENT
DTSTART;TZID=America/Los_Angeles:20251106T180000
DTEND;TZID=America/Los_Angeles:20251106T190000
DTSTAMP:20260423T095030
CREATED:20251030T173757Z
LAST-MODIFIED:20251030T173757Z
UID:10752-1762452000-1762455600@h2oc.org
SUMMARY:Break It Up! – Permeable Everywhere – California American Water
DESCRIPTION:Join California American Water for a free 60-minute live Zoom webinar\, “Break It Up! – Permeable Everywhere\,” on Thursday\, November 6\, 2025. Learn how to create permeable hardscape in your garden\, including path design\, concrete alternatives\, and tips for capturing rainwater.
URL:https://h2oc.org/event/break-it-up-permeable-everywhere-california-american-water/
LOCATION:Virtual
END:VEVENT
BEGIN:VEVENT
DTSTART;TZID=America/Los_Angeles:20251108T090000
DTEND;TZID=America/Los_Angeles:20251108T110000
DTSTAMP:20260423T095030
CREATED:20251030T174134Z
LAST-MODIFIED:20251030T174134Z
UID:10758-1762592400-1762599600@h2oc.org
SUMMARY:Community Cleanup Day
DESCRIPTION:Garden Grove Sanitary District and Republic Services invite residents to Community Cleanup Day. This is a free\, self-service event for disposing of bulky items like furniture\, mattresses\, and e-waste. No hazardous waste\, appliances with refrigerants\, or tires accepted. For more details on what is and is not accepted please visit ggcity.org/cleanup-days
URL:https://h2oc.org/event/community-cleanup-day/
LOCATION:Garden Grove Municipal Service Center: 13802 Newhope Street
END:VEVENT
BEGIN:VEVENT
DTSTART;TZID=America/Los_Angeles:20251115T073000
DTEND;TZID=America/Los_Angeles:20251115T120000
DTSTAMP:20260423T095030
CREATED:20251030T174538Z
LAST-MODIFIED:20251030T174538Z
UID:10762-1763191800-1763208000@h2oc.org
SUMMARY:OC Waste & Recycling’s Compost Giveaway
DESCRIPTION:Celebrate America Recycles® Day with OC Waste & Recycling (OCWR) and receive high-quality compost made from residential green waste.\nThis compost is certified by the U.S. Composting Council’s Seal of Testing Assurance (STA). By using compost\, you help protect our waterways\, conserve landfill space\, and enrich your home garden.
URL:https://h2oc.org/event/oc-waste-recyclings-compost-giveaway/
LOCATION:Bee Canyon Greenery: 11002 Bee Canyon Access Rd.\, Irvine Valencia Greenery: 1942 N. Valencia Ave.\, Brea Capistrano Greenery: 32250 Avenida La Pata\, San Juan Capistrano
END:VEVENT
BEGIN:VEVENT
DTSTART;TZID=America/Los_Angeles:20251115T080000
DTEND;TZID=America/Los_Angeles:20251115T160000
DTSTAMP:20260423T095030
CREATED:20251030T175104Z
LAST-MODIFIED:20251030T175104Z
UID:10769-1763193600-1763222400@h2oc.org
SUMMARY:Fall HHW Waste Collection Event
DESCRIPTION:Tustin residents are invited to CR&R’s Fall Household Hazardous Waste (HHW) Collection Event on Saturday\, November 15\, 2025\, from 8 AM to 4 PM at the Main Street Water Facility. Help keep this hazardous waste away from our water bodies! Residents can safely dispose of items like paint\, cleaners\, batteries\, electronics\, motor oil\, and more.
URL:https://h2oc.org/event/fall-hhw-waste-collection-event/
LOCATION:Main Street Water Facility: 235. E Main St. Tustin\, CA 92780
END:VEVENT
END:VCALENDAR