BEGIN:VCALENDAR
VERSION:2.0
PRODID:-//H2OC Stormwater Program - ECPv6.15.20//NONSGML v1.0//EN
CALSCALE:GREGORIAN
METHOD:PUBLISH
X-WR-CALNAME:H2OC Stormwater Program
X-ORIGINAL-URL:https://h2oc.org
X-WR-CALDESC:Events for H2OC Stormwater Program
REFRESH-INTERVAL;VALUE=DURATION:PT1H
X-Robots-Tag:noindex
X-PUBLISHED-TTL:PT1H
BEGIN:VTIMEZONE
TZID:America/Los_Angeles
BEGIN:DAYLIGHT
TZOFFSETFROM:-0800
TZOFFSETTO:-0700
TZNAME:PDT
DTSTART:20250309T100000
END:DAYLIGHT
BEGIN:STANDARD
TZOFFSETFROM:-0700
TZOFFSETTO:-0800
TZNAME:PST
DTSTART:20251102T090000
END:STANDARD
BEGIN:DAYLIGHT
TZOFFSETFROM:-0800
TZOFFSETTO:-0700
TZNAME:PDT
DTSTART:20260308T100000
END:DAYLIGHT
BEGIN:STANDARD
TZOFFSETFROM:-0700
TZOFFSETTO:-0800
TZNAME:PST
DTSTART:20261101T090000
END:STANDARD
BEGIN:DAYLIGHT
TZOFFSETFROM:-0800
TZOFFSETTO:-0700
TZNAME:PDT
DTSTART:20270314T100000
END:DAYLIGHT
BEGIN:STANDARD
TZOFFSETFROM:-0700
TZOFFSETTO:-0800
TZNAME:PST
DTSTART:20271107T090000
END:STANDARD
END:VTIMEZONE
BEGIN:VEVENT
DTSTART;TZID=America/Los_Angeles:20260411T090000
DTEND;TZID=America/Los_Angeles:20260426T120000
DTSTAMP:20260422T232330
CREATED:20260327T220655Z
LAST-MODIFIED:20260327T220845Z
UID:11380-1775898000-1777204800@h2oc.org
SUMMARY:Quarterly Bulky Item Drop-Off Day - Koral Park
DESCRIPTION:The City of Santa Ana Public Works Agency\, in partnership with Republic Services\, invites residents to a free bulky item drop-off event. \nDispose of items like furniture\, mattresses\, and carpets. No appointment needed\, but proof of residency is required. Event ends at noon or when capacity is reached.
URL:https://h2oc.org/event/quarterly-bulky-item-drop-off-day-jerome-park/
LOCATION:900 W MacArthur Boulevard\, Santa Ana\, CA 92707
END:VEVENT
BEGIN:VEVENT
DTSTART;TZID=America/Los_Angeles:20260425T080000
DTEND;TZID=America/Los_Angeles:20260425T120000
DTSTAMP:20260422T232330
CREATED:20260327T184145Z
LAST-MODIFIED:20260327T184145Z
UID:11325-1777104000-1777118400@h2oc.org
SUMMARY:Earth Day/Arbor Day Celebration
DESCRIPTION:Honor our local animals\, plants\, and waterways at City of Mission Viejo’s annual Earth Day and Arbor Day Celebration. Volunteers can help plant trees and shrubs and partake in earth-friendly activities/exhibits with tips on pollution prevention\, recycling and more. Lunch and ice cream will be provided for volunteers while supplies last and a complimentary golf cart shuttle service will be provided between parking areas and the event location.
URL:https://h2oc.org/event/earth-day-arbor-day-celebration-2/
LOCATION:Oso Creek Trail – North of Jeronimo Road
END:VEVENT
BEGIN:VEVENT
DTSTART;TZID=America/Los_Angeles:20260425T080000
DTEND;TZID=America/Los_Angeles:20260425T120000
DTSTAMP:20260422T232330
CREATED:20260327T184503Z
LAST-MODIFIED:20260327T184503Z
UID:11330-1777104000-1777118400@h2oc.org
SUMMARY:Free E-Waste Recycling and Paper Shredding Event
DESCRIPTION:Participate in Spring cleaning by keeping E-waste out of our waterways. The City of Buena Park and EDCO are hosting a great opportunity to safely dispose of old electronics and paper documents. Residents can also pick up free mulch and compost while supplies last. This is a self-serve\, self-loading service\, so bring your own cans/bags and shovel. For more information on disposal limits and accepted items\, please visit the website.
URL:https://h2oc.org/event/free-e-waste-recycling-and-paper-shredding-event/
LOCATION:Entertainment Corridor Parking Lot (7720 Western Ave.\, Buena Park)
END:VEVENT
BEGIN:VEVENT
DTSTART;TZID=America/Los_Angeles:20260425T090000
DTEND;TZID=America/Los_Angeles:20260425T110000
DTSTAMP:20260422T232330
CREATED:20260327T230707Z
LAST-MODIFIED:20260327T230707Z
UID:11425-1777107600-1777114800@h2oc.org
SUMMARY:Santa Ana River Cleanup
DESCRIPTION:Rid trash from the tall grass and weeds at this month’s Santa Ana River Cleanup. The Santa Ana River has many tributaries that feed into it before it meets the ocean\, you can do your part to prevent pollution on a local level. Must wear closed toed shoes and pants. Sign up online for the exact address.
URL:https://h2oc.org/event/santa-ana-river-cleanup-2/
LOCATION:Huntington Beach\, CA 92646 (sign up to see exact location)
END:VEVENT
BEGIN:VEVENT
DTSTART;TZID=America/Los_Angeles:20260425T090000
DTEND;TZID=America/Los_Angeles:20260425T113000
DTSTAMP:20260422T232330
CREATED:20260327T231022Z
LAST-MODIFIED:20260327T231042Z
UID:11427-1777107600-1777116600@h2oc.org
SUMMARY:Fourth Saturday Beach & River Mouth Cleanup
DESCRIPTION:Join the mission to protect our underwater pals\, keep the wildlife safe\, and stop trash in its tracks before it hits the waves with Coastal Corridor Alliance. Every fourth Saturday meet at Newport Lifeguard Tower 74 to pick up trash and help keep our waterways and community clean. Register on Eventbrite and sign the online liability waiver to participate.
URL:https://h2oc.org/event/fourth-saturday-beach-river-mouth-cleanup-2/
LOCATION:7004 Seashore Dr\, Newport Beach\, CA 92663
END:VEVENT
BEGIN:VEVENT
DTSTART;TZID=America/Los_Angeles:20260425T090000
DTEND;TZID=America/Los_Angeles:20260425T120000
DTSTAMP:20260422T232330
CREATED:20260407T202215Z
LAST-MODIFIED:20260407T202244Z
UID:11472-1777107600-1777118400@h2oc.org
SUMMARY:Earth Day Cleanup Event - Huntington City Beach
DESCRIPTION:Join like-minded community members for the opportunity to help keep your local beaches and parks beautiful and clean at the City of Huntington Beach’s Earth Day Clean up Events. Choose between 2 locations: Huntington City Beach and Sully Miller Lake. Bring your own bucket and reusable water bottle and the city will provide trash bags and gloves. To increase your impact\, use public transportation\, walk\, bike\, or carpool to the cleanup!
URL:https://h2oc.org/event/earth-day-cleanup-event-huntington-city-beach/
LOCATION:21579 Pacific Coast Hwy\, Huntington Beach\, CA 92648
END:VEVENT
BEGIN:VEVENT
DTSTART;TZID=America/Los_Angeles:20260425T090000
DTEND;TZID=America/Los_Angeles:20260506T120000
DTSTAMP:20260422T232330
CREATED:20260407T202759Z
LAST-MODIFIED:20260407T202759Z
UID:11477-1777107600-1778068800@h2oc.org
SUMMARY:Earth Day Cleanup Event -Sully Miller Lake
DESCRIPTION:Join like-minded community members for the opportunity to help keep your local beaches and parks beautiful and clean at the City of Huntington Beach’s Earth Day Clean up Events. Choose between 2 locations: Huntington City Beach and Sully Miller Lake. Bring your own bucket and reusable water bottle and the city will provide trash bags and gloves. To increase your impact\, use public transportation\, walk\, bike\, or carpool to the cleanup!
URL:https://h2oc.org/event/earth-day-cleanup-event-sully-miller-lake/
LOCATION:18121 Gothard St\, Huntington Beach\, CA 92648
END:VEVENT
BEGIN:VEVENT
DTSTART;TZID=America/Los_Angeles:20260425T100000
DTEND;TZID=America/Los_Angeles:20260425T120000
DTSTAMP:20260422T232330
CREATED:20260330T161212Z
LAST-MODIFIED:20260330T161212Z
UID:11432-1777111200-1777118400@h2oc.org
SUMMARY:Discover Upper Newport Bay Kayak Tour
DESCRIPTION:Join a public group to kayak through the Upper Newport Bay Ecological Reserve and learn about what makes this place unique! Tours are guided by certified volunteer naturalists. As you gently paddle along\, you will have the opportunity to see wetland wildlife while your naturalist guide stops occasionally to talk about the ecology/natural history of the Bay. Only 20 spots available so select your preferred date and sign up online to secure your spot!
URL:https://h2oc.org/event/discover-upper-newport-bay-kayak-tour-8/
LOCATION:Newport Aquatic Center (1 Whitecliffs Dr\, Newport Beach\, CA 92660)
END:VEVENT
BEGIN:VEVENT
DTSTART;TZID=America/Los_Angeles:20260425T150000
DTEND;TZID=America/Los_Angeles:20260425T170000
DTSTAMP:20260422T232330
CREATED:20260330T161858Z
LAST-MODIFIED:20260330T161951Z
UID:11434-1777129200-1777136400@h2oc.org
SUMMARY:Keep it Wild - Laguna Coast
DESCRIPTION:Learn and work together towards habitat restoration stewardship in Laguna Coast Wilderness Park. Native plants are nature’s filtration system to slow stormwater pollution. As a volunteer\, you will collect seeds\, remove non-native plants\, plant native ones. Gloves and tools will be provided. Participants should bring water\, closed-toe shoes\, layered clothing and sun protection. Advance registration required.
URL:https://h2oc.org/event/keep-it-wild-laguna-coast-2/
LOCATION:Nix Nature Center\, Laguna Coast Wilderness Park (18751 Laguna Canyon Road\, Laguna Beach 92651)
END:VEVENT
BEGIN:VEVENT
DTSTART;TZID=America/Los_Angeles:20260426T090000
DTEND;TZID=America/Los_Angeles:20260426T103000
DTSTAMP:20260422T232330
CREATED:20260330T162254Z
LAST-MODIFIED:20260330T162254Z
UID:11437-1777194000-1777199400@h2oc.org
SUMMARY:Last Sunday of the Month Trash Cleanup
DESCRIPTION:Help keep the waters of the Bolsa Chica Ecological Reserve healthy! On the last Sundays of the month\, help clean up trash from the area around the south parking lot and footbridge. Tools\, gloves and buckets will be provided. Click the link to register online.
URL:https://h2oc.org/event/last-sunday-of-the-month-trash-cleanup-4/
LOCATION:Bolsa Chica Ecological Reserve – South Parking Lot (18000 Pacific Coast Highway\, Huntington Beach\, CA 92648)
END:VEVENT
BEGIN:VEVENT
DTSTART;TZID=America/Los_Angeles:20260429T100000
DTEND;TZID=America/Los_Angeles:20260429T153000
DTSTAMP:20260422T232330
CREATED:20260417T192128Z
LAST-MODIFIED:20260417T192128Z
UID:11661-1777456800-1777476600@h2oc.org
SUMMARY:Garden with style tour and expo
DESCRIPTION:The event will feature hands-on learning stations\, student showcases\, and a family-friendly community fair aimed at inspiring environmental responsibility and community wellness.\nOur theme this year is: “Grow Local\, Heal Together”\, with a sub-theme of “Heal the Earth\, Heal Ourselves.”
URL:https://h2oc.org/event/garden-with-style-tour-and-expo/
LOCATION:15872 S Harbor Blvd\, Fountain Valley\, CA
END:VEVENT
BEGIN:VEVENT
DTSTART;TZID=America/Los_Angeles:20260430T083000
DTEND;TZID=America/Los_Angeles:20260430T113000
DTSTAMP:20260422T232330
CREATED:20260327T175617Z
LAST-MODIFIED:20260327T175646Z
UID:11300-1777537800-1777548600@h2oc.org
SUMMARY:Earth Day & Arbor Day Celebration
DESCRIPTION:Celebrate Earth Day by volunteering at the Niguel Botanical Preserve located in Crown Valley Park. Volunteers will plant\, weed\, add mulch\, and clean up areas to help the gardens and our waterways thrive. Wear gardening clothes and closed-toe shoes. Gloves\, tools\, water\, and snacks will be provided and plants will be available for sale at the Amphitheater. Pre-register online to reserve your spot!
URL:https://h2oc.org/event/earth-day-arbor-day-celebration/
LOCATION:Crown Valley Park (29751 Crown Valley Parkway Laguna Niguel\, CA 92677)
END:VEVENT
BEGIN:VEVENT
DTSTART;TZID=America/Los_Angeles:20260507T080000
DTEND;TZID=America/Los_Angeles:20260525T100000
DTSTAMP:20260422T232331
CREATED:20260327T225823Z
LAST-MODIFIED:20260327T225823Z
UID:11415-1778140800-1779703200@h2oc.org
SUMMARY:Beach Cleanup + Surf - Newport Pier
DESCRIPTION:Protect our waterways while you support your local community. Join Surfrider at the Newport’s Pier to learn about their beach cleanup and rid trash from our shores. Sign up online for the exact address.
URL:https://h2oc.org/event/beach-cleanup-surf-newport-pier-3/
LOCATION:1 Newport Pier\, Newport Beach\, CA 92663
END:VEVENT
END:VCALENDAR